BEGIN:VCALENDAR
VERSION:2.0
PRODID:-//ChamberMaster//Event Calendar 2.0//EN
METHOD:PUBLISH
X-PUBLISHED-TTL:P3D
REFRESH-INTERVAL:P3D
CALSCALE:GREGORIAN
BEGIN:VEVENT
DTSTART:20191107T140000Z
DTEND:20191107T153000Z
X-MICROSOFT-CDO-ALLDAYEVENT:FALSE
SUMMARY:State of the Village Address
DESCRIPTION:Mark your calendar to attend the Glenview Chamber's presentation of the State of the Village featuring Village President James Patterson on Thursday\, November 7th in the Community Room at Glenview Public Library. President Patterson will give an overview of major issues facing the Village of Glenview and discuss the challenges and opportunities that lie ahead. At the end\, time will be allotted for questions. We encourage all residents and businesses to join us. Further details will be available in the Village's October newsletter and both the Chamber and Village websites. This event sponsored by Wintrust Community Banks - Glenview Bank & Trust\, Northview Bank & Trust.
X-ALT-DESC;FMTTYPE=text/html:Mark your calendar to attend the Glenview Chamber&rsquo\;s presentation of the State of the Village featuring Village President James Patterson on Thursday\, November 7th in the Community Room at Glenview Public Library. President Patterson will give an overview of major issues facing the Village of Glenview and discuss the challenges and opportunities that lie ahead. At the end\, time will be allotted for questions. We encourage all residents and businesses to join us. Further details will be available in the Village&rsquo\;s October newsletter and both the Chamber and Village websites. This event sponsored by Wintrust Community Banks - Glenview Bank &amp\; Trust\, Northview Bank &amp\; Trust.
LOCATION:Glenview Public Library Community Room 1930 Glenview Road Glenview
UID:e.434.10076
SEQUENCE:3
DTSTAMP:20260423T103457Z
URL:https://business.glenviewchamber.com/events/details/state-of-the-village-address-10076
END:VEVENT

END:VCALENDAR
