BEGIN:VCALENDAR
VERSION:2.0
PRODID:-//ChamberMaster//Event Calendar 2.0//EN
METHOD:PUBLISH
X-PUBLISHED-TTL:P3D
REFRESH-INTERVAL:P3D
CALSCALE:GREGORIAN
BEGIN:VEVENT
DTSTART:20140628T143000Z
DTEND:20140628T223000Z
X-MICROSOFT-CDO-ALLDAYEVENT:FALSE
SUMMARY:Summer Festival
DESCRIPTION:For the Summer Fest application\, Click Here! \n\n\n\n41st Annual Glenview Summer Festival \n\na.k.a. "Street Sale"\, gives merchants a chance to showcase their wares\, and sell excess inventory.  In addition\, restaurants sell  their mouth-watering creations\, artists/crafters show off their talents with hand-made jewelry\, pottery\, etc... and our own Glenview Service Clubs often have raffles and activities.\n\n\n\nCome for the food and live entertainment!  Fun for the whole family!
X-ALT-DESC;FMTTYPE=text/html:<div>For the Summer Fest application\,&nbsp\;<a href="http://cloud.chambermaster.com/userfiles/UserFiles/chambers/434/File/ApplicationRules2014.pdf">Click Here</a>!&#8203\;<br />\n<br />\n<strong>41st Annual Glenview Summer Festival&nbsp\;<br />\na.k.a. &quot\;<em>Street Sale</em>&quot\;</strong>\,&nbsp\;gives merchants a chance to showcase their wares\, and sell excess inventory.&nbsp\; In addition\, restaurants&nbsp\;sell&nbsp\; their mouth-watering creations\, artists/crafters show off their talents with hand-made jewelry\, pottery\, etc...&nbsp\;and our own Glenview Service Clubs often have raffles and activities.</div>\n\n<div><br />\nCome for the food and live entertainment!&nbsp\; Fun for the whole family!<br />\n<br />\n&nbsp\;</div>\n
LOCATION:The Festival will be on Lehigh between Glenview Road and Washington Street.
UID:e.434.56
SEQUENCE:3
DTSTAMP:20260423T185037Z
URL:https://business.glenviewchamber.com/events/details/summer-festival-06-28-2014-56
END:VEVENT

END:VCALENDAR
