BEGIN:VCALENDAR
VERSION:2.0
PRODID:-//ChamberMaster//Event Calendar 2.0//EN
METHOD:PUBLISH
X-PUBLISHED-TTL:P3D
REFRESH-INTERVAL:P3D
CALSCALE:GREGORIAN
BEGIN:VEVENT
DTSTART:20230607T170000Z
DTEND:20230607T180000Z
X-MICROSOFT-CDO-ALLDAYEVENT:FALSE
SUMMARY:Supporting Friends in Toxic Relationships
DESCRIPTION:We've all been there\; a friend or loved one is in a relationship that we don't think is good for them. What is the best thing for us to do in that situation? Join SHALVA to learn how to distinguish between healthy\, unhealthy\, and abusive relationships\, while gaining insight into what support for people in unhealthy or abusive situations looks like. You'll walk away feeling empowered by this important conversation.
X-ALT-DESC;FMTTYPE=text/html:We&rsquo\;ve all been there\; a friend or loved one is in a relationship that we don&rsquo\;t think is good for them. What is the best thing for us to do in that situation? Join SHALVA to learn how to distinguish between healthy\, unhealthy\, and abusive relationships\, while gaining insight into what support for people in unhealthy or abusive situations looks like. You&rsquo\;ll walk away feeling empowered by this important conversation.
LOCATION:Online
UID:e.434.10745
SEQUENCE:3
DTSTAMP:20260421T074339Z
URL:https://business.glenviewchamber.com/events/details/supporting-friends-in-toxic-relationships-10745
END:VEVENT

END:VCALENDAR
