BEGIN:VCALENDAR
VERSION:2.0
PRODID:-//ChamberMaster//Event Calendar 2.0//EN
METHOD:PUBLISH
X-PUBLISHED-TTL:P3D
REFRESH-INTERVAL:P3D
CALSCALE:GREGORIAN
BEGIN:VEVENT
DTSTART:20190619T210000Z
DTEND:20190619T223000Z
X-MICROSOFT-CDO-ALLDAYEVENT:FALSE
SUMMARY:Sweet Ali's & WXRT Are Rollin' with the Stones
DESCRIPTION:Enter to Win 2 tickets to the Rolling Stones\n\nJune 25th show at Soldier Field!\n\nPlus\, special products\, exclusive promotions\,\n\nraffle and more!
X-ALT-DESC;FMTTYPE=text/html:Enter to Win 2 tickets to the Rolling Stones<br />\nJune 25th show at Soldier Field!<br />\nPlus\, special products\, exclusive promotions\,<br />\nraffle and more!
LOCATION:SWEET ALI 'S GLENVIEW BAKERY 1107 WAUKEGAN ROAD Glenview\, IL
UID:e.434.10171
SEQUENCE:3
DTSTAMP:20260425T173056Z
URL:https://business.glenviewchamber.com/events/details/sweet-ali-s-wxrt-are-rollin-with-the-stones-10171
END:VEVENT

END:VCALENDAR
