BEGIN:VCALENDAR
VERSION:2.0
PRODID:-//ChamberMaster//Event Calendar 2.0//EN
METHOD:PUBLISH
X-PUBLISHED-TTL:P3D
REFRESH-INTERVAL:P3D
CALSCALE:GREGORIAN
BEGIN:VEVENT
DTSTART:20240907T230000Z
DTEND:20240908T020000Z
X-MICROSOFT-CDO-ALLDAYEVENT:FALSE
SUMMARY:Taste of Glenview
DESCRIPTION:Tastes from Glenview restaurants\, live music
X-ALT-DESC;FMTTYPE=text/html:Tastes from Glenview restaurants\, live music
LOCATION:Glenview Park Center
UID:e.434.11037
SEQUENCE:3
DTSTAMP:20260420T102338Z
URL:https://business.glenviewchamber.com/events/details/taste-of-glenview-11037
END:VEVENT

END:VCALENDAR
