BEGIN:VCALENDAR
VERSION:2.0
PRODID:-//ChamberMaster//Event Calendar 2.0//EN
METHOD:PUBLISH
X-PUBLISHED-TTL:P3D
REFRESH-INTERVAL:P3D
CALSCALE:GREGORIAN
BEGIN:VEVENT
DTSTART:20190613T230000Z
DTEND:20190614T000000Z
X-MICROSOFT-CDO-ALLDAYEVENT:FALSE
SUMMARY:The Benefits of Using Medicine Marijuana and CBD
DESCRIPTION:Presented by Lauren Lupescu\, Community Outreach Director with Windy City Cannabis\n\n\n\nTopics to be covered: \n\n	Overview of medical cannabis\n	Medical cannabis in Illinois\n	Effects that cannabis has on the body\n	Overview of Greenhouse and Windy City Cannabis dispensaries
X-ALT-DESC;FMTTYPE=text/html:Presented by Lauren Lupescu\, Community Outreach Director with Windy City Cannabis<br />\n<br />\nTopics to be covered:&nbsp\;\n<ul>\n	<li>Overview of medical cannabis</li>\n	<li>Medical cannabis in Illinois</li>\n	<li>Effects that cannabis has on the body</li>\n	<li>Overview of Greenhouse and Windy City Cannabis dispensaries</li>\n</ul>\n
LOCATION:Emerald Place 1879 Chestnut Avenue Glenview\, IL 60025
UID:e.434.10167
SEQUENCE:3
DTSTAMP:20260425T184345Z
URL:https://business.glenviewchamber.com/events/details/the-benefits-of-using-medicine-marijuana-and-cbd-10167
END:VEVENT

END:VCALENDAR
