BEGIN:VCALENDAR
VERSION:2.0
PRODID:-//ChamberMaster//Event Calendar 2.0//EN
METHOD:PUBLISH
X-PUBLISHED-TTL:P3D
REFRESH-INTERVAL:P3D
CALSCALE:GREGORIAN
BEGIN:VEVENT
DTSTART:20230613T160000Z
DTEND:20230613T170000Z
X-MICROSOFT-CDO-ALLDAYEVENT:FALSE
SUMMARY:The Elder Well-Being Assessment: A Unique Tool That Creates Clarity In The Chaos Of The Elder Transition
DESCRIPTION:Society's support systems for the chronically ill and the elderly facing the complexities of aging and decline are broken. Modern US Society has designed itself around this population\, leaving your loved ones to face a frightening and expensive future\, with very little in the way of support mechanisms.
X-ALT-DESC;FMTTYPE=text/html:Society&rsquo\;s support systems for the chronically ill and the elderly facing the complexities of aging and decline are broken. Modern US Society has designed itself around this population\, leaving your loved ones to face a frightening and expensive future\, with very little in the way of support mechanisms.
LOCATION:Online
UID:e.434.10746
SEQUENCE:3
DTSTAMP:20260421T074731Z
URL:https://business.glenviewchamber.com/events/details/the-elder-well-being-assessment-a-unique-tool-that-creates-clarity-in-the-chaos-of-the-elder-transition-10746
END:VEVENT

END:VCALENDAR
