BEGIN:VCALENDAR
VERSION:2.0
PRODID:-//ChamberMaster//Event Calendar 2.0//EN
METHOD:PUBLISH
X-PUBLISHED-TTL:P3D
REFRESH-INTERVAL:P3D
CALSCALE:GREGORIAN
BEGIN:VEVENT
DTSTART:20240126T233000Z
DTEND:20240127T010000Z
X-MICROSOFT-CDO-ALLDAYEVENT:FALSE
SUMMARY:The Grand Avidor Casino Night
DESCRIPTION:Join us for cocktails\, hors d'oeuvres\, blackjack\, roulette and more! Elegant attire preferred.\n\nAvidor Glenview is a 55+ active adult community that offers personalized lifestyles for those seeking an exciting next chapter of their lives. \n\n\n\nPlease plan to bring guests that are 55+ and have not yet toured our community to receive a $150 gift card for yourself as well as your guests.
X-ALT-DESC;FMTTYPE=text/html:Join us for cocktails\, hors d&#39\;oeuvres\, blackjack\, roulette and more! Elegant attire preferred.<br />\nAvidor Glenview is a 55+ active adult community that offers personalized lifestyles for those seeking an exciting next chapter of their lives.&nbsp\;<br />\n<br />\nPlease plan to bring guests that are 55+ and have not yet toured our community to receive a $150 gift card for yourself as well as your guests.&nbsp\;
LOCATION:650 Waukegan Rd\, Glenview\, IL 60025
UID:e.434.10902
SEQUENCE:3
DTSTAMP:20260420T203351Z
URL:https://business.glenviewchamber.com/events/details/the-grand-avidor-casino-night-10902
END:VEVENT

END:VCALENDAR
