BEGIN:VCALENDAR
VERSION:2.0
PRODID:-//ChamberMaster//Event Calendar 2.0//EN
METHOD:PUBLISH
X-PUBLISHED-TTL:P3D
REFRESH-INTERVAL:P3D
CALSCALE:GREGORIAN
BEGIN:VEVENT
DTSTART;VALUE=DATE:20240206
DTEND;VALUE=DATE:20240207
TRANSP:TRANSPARENT
X-MICROSOFT-CDO-ALLDAYEVENT:TRUE
SUMMARY:Tipsy Toes Adult Dance Workshop
DESCRIPTION:No Dance Experience Necessary! Whether brand new to ballet or a mature mover for years\, this workshop allows adults to come together for the love of dance\, exercise\, and social gain in a zero pressure environment. Bring a beverage\, wear some comfy athletic clothes and either socks or ballet shoes.
X-ALT-DESC;FMTTYPE=text/html:No Dance Experience Necessary! Whether brand new to ballet or a mature mover for years\, this workshop allows adults to come together for the love of dance\, exercise\, and social gain in a zero pressure environment. Bring a beverage\, wear some comfy athletic clothes and either socks or ballet shoes.
LOCATION:North Suburban YMCA\, 2705 Techny Rd. Northbrook. IL 60062
UID:e.434.10891
SEQUENCE:3
DTSTAMP:20260420T143855Z
URL:https://business.glenviewchamber.com/events/details/tipsy-toes-adult-dance-workshop-02-06-2024-10891
END:VEVENT

END:VCALENDAR
