BEGIN:VCALENDAR
VERSION:2.0
PRODID:-//ChamberMaster//Event Calendar 2.0//EN
METHOD:PUBLISH
X-PUBLISHED-TTL:P3D
REFRESH-INTERVAL:P3D
CALSCALE:GREGORIAN
BEGIN:VEVENT
DTSTART:20240306T011500Z
DTEND:20240306T023000Z
X-MICROSOFT-CDO-ALLDAYEVENT:FALSE
SUMMARY:Tipsy Toes Adult Dance Workshop
DESCRIPTION:NO DANCE EXPERIENCE NECESSARY Get ready to loosen and limber up! Whether brand new to ballet or a mature mover for years\, this workshop allows adults to come together for the love of dance\, exercise\, and social gain in a zero pressure environment. Bring a beverage\, wear some comfy athletic clothes and either socks or ballet shoes to enjoy a once a month workshop based in ballet technique! BYOB and enjoy!
X-ALT-DESC;FMTTYPE=text/html:NO DANCE EXPERIENCE NECESSARY Get ready to loosen and limber up! Whether brand new to ballet or a mature mover for years\, this workshop allows adults to come together for the love of dance\, exercise\, and social gain in a zero pressure environment. Bring a beverage\, wear some comfy athletic clothes and either socks or ballet shoes to enjoy a once a month workshop based in ballet technique! BYOB and enjoy!
LOCATION:North Suburban YMCA 2705 Techny Rd. Northbrook. IL 60062
UID:e.434.10896
SEQUENCE:3
DTSTAMP:20260420T132452Z
URL:https://business.glenviewchamber.com/events/details/tipsy-toes-adult-dance-workshop-03-05-2024-10896
END:VEVENT

END:VCALENDAR
