BEGIN:VCALENDAR
VERSION:2.0
PRODID:-//ChamberMaster//Event Calendar 2.0//EN
METHOD:PUBLISH
X-PUBLISHED-TTL:P3D
REFRESH-INTERVAL:P3D
CALSCALE:GREGORIAN
BEGIN:VEVENT
DTSTART:20240320T000000Z
DTEND:20240320T010000Z
X-MICROSOFT-CDO-ALLDAYEVENT:FALSE
SUMMARY:Top 7 Causes Of Hand Pain
DESCRIPTION:We use our hands in almost every aspect of our daily lives\, and they are one of our greatest assets. Many conditions can develop from injury\, disease\, and gradual degeneration. Learn more about the most common causes of hand and wrist pain from IBJI's William Vitello.
X-ALT-DESC;FMTTYPE=text/html:We use our hands in almost every aspect of our daily lives\, and they are one of our greatest assets. Many conditions can develop from injury\, disease\, and gradual degeneration. Learn more about the most common causes of hand and wrist pain from IBJI&#39\;s William Vitello.
LOCATION:Online
UID:e.434.10931
SEQUENCE:3
DTSTAMP:20260420T115737Z
URL:https://business.glenviewchamber.com/events/details/top-7-causes-of-hand-pain-10931
END:VEVENT

END:VCALENDAR
