BEGIN:VCALENDAR
VERSION:2.0
PRODID:-//ChamberMaster//Event Calendar 2.0//EN
METHOD:PUBLISH
X-PUBLISHED-TTL:P3D
REFRESH-INTERVAL:P3D
CALSCALE:GREGORIAN
BEGIN:VEVENT
DTSTART:20210913T223000Z
DTEND:20210914T000000Z
X-MICROSOFT-CDO-ALLDAYEVENT:FALSE
SUMMARY:TRAVEL: Vietnam Trip Orientation Meeting
DESCRIPTION:Thinking about traveling with the Chamber? \n\nVietnam Orientation Meeting - no obligation to sign up!\n\nThe Glenview Chamber of Commerce is hosting a trip to Vietnam. Travel dates are March 1st - 10th\, 2022\, cost per person is $2499 including airfares\, taxes\, hotels\, cruise\, meals\, tours\, and entrance fees.  Points of interest: Hanoi - Ha Long Bay - Hoi An - HCM City.  Join us for this informational meeting about the trip.  Attending does not obligate you to travel\, but we know you will enjoy this fun group of world travelers.
X-ALT-DESC;FMTTYPE=text/html:Thinking about traveling with the Chamber?&nbsp\;<br />\n<strong>Vietnam Orientation Meeting</strong> - no obligation to sign up!<br />\n<span style="font-size:12px\;"><span style="background:white\;"><span style="color:black\;"><span style="font-family:open sans\,sans-serif\;">The Glenview Chamber of Commerce is hosting a trip to Vietnam.&nbsp\;Travel dates are March 1st - 10th\, 2022\, cost per person is $2499 including airfares\, taxes\, hotels\, cruise\, meals\, tours\, and entrance fees.&nbsp\; Points of interest: Hanoi - Ha Long Bay - Hoi An - HCM City.&nbsp\; Join us for this informational meeting about the trip.&nbsp\; Attending does not obligate you to travel\, but we know you will enjoy this fun group of world travelers.</span></span></span></span>
LOCATION:Winnetka Community House 620 Lincoln Ave. Winnetka\, IL 60093
UID:e.434.10561
SEQUENCE:3
DTSTAMP:20260422T083205Z
URL:https://business.glenviewchamber.com/events/details/travel-vietnam-trip-orientation-meeting-10561
END:VEVENT

END:VCALENDAR
