BEGIN:VCALENDAR
VERSION:2.0
PRODID:-//ChamberMaster//Event Calendar 2.0//EN
METHOD:PUBLISH
X-PUBLISHED-TTL:P3D
REFRESH-INTERVAL:P3D
CALSCALE:GREGORIAN
BEGIN:VEVENT
DTSTART:20240225T010000Z
DTEND:20240225T030000Z
X-MICROSOFT-CDO-ALLDAYEVENT:FALSE
SUMMARY:Trivia Night
DESCRIPTION:Challenge your knowledge on this year's topic\, Sitcoms! Snacks\, Beer\, Wine\, and Prizes! All funds raised will go towards the NSYMCA. Register at nsymca.org
X-ALT-DESC;FMTTYPE=text/html:Challenge your knowledge on this year&rsquo\;s topic\, Sitcoms! Snacks\, Beer\, Wine\, and Prizes! All funds raised will go towards the NSYMCA. Register at nsymca.org
LOCATION:North Suburban YMCA
UID:e.434.10888
SEQUENCE:3
DTSTAMP:20260420T143300Z
URL:https://business.glenviewchamber.com/events/details/trivia-night-10888
END:VEVENT

END:VCALENDAR
