BEGIN:VCALENDAR
VERSION:2.0
PRODID:-//ChamberMaster//Event Calendar 2.0//EN
METHOD:PUBLISH
X-PUBLISHED-TTL:P3D
REFRESH-INTERVAL:P3D
CALSCALE:GREGORIAN
BEGIN:VEVENT
DTSTART:20240918T000000Z
DTEND:20240918T013000Z
X-MICROSOFT-CDO-ALLDAYEVENT:FALSE
SUMMARY:Two For Tuesdays: Watercolors
DESCRIPTION:Introducing "Two for Tuesdays"   our exciting new art workshop series! Join us on the 2nd and 3rd Tuesday of each month to explore a different art medium. No experience is needed\, and all supplies are provided\, making it easy for everyone to participate. Sign up by the month and discover your creative potential with us. Don't miss out on this fun and enriching opportunity! September Dates: 10th & 17th
X-ALT-DESC;FMTTYPE=text/html:Introducing &quot\;Two for Tuesdays&quot\; &ndash\; our exciting new art workshop series! Join us on the 2nd and 3rd Tuesday of each month to explore a different art medium. No experience is needed\, and all supplies are provided\, making it easy for everyone to participate. Sign up by the month and discover your creative potential with us. Don&rsquo\;t miss out on this fun and enriching opportunity! September Dates: 10th &amp\; 17th
LOCATION:North Suburban YMCA 2705 Techny Rd. Northbrook. IL 60062
UID:e.434.11051
SEQUENCE:3
DTSTAMP:20260420T102647Z
URL:https://business.glenviewchamber.com/events/details/two-for-tuesdays-watercolors-09-17-2024-11051
END:VEVENT

END:VCALENDAR
