BEGIN:VCALENDAR
VERSION:2.0
PRODID:-//ChamberMaster//Event Calendar 2.0//EN
METHOD:PUBLISH
X-PUBLISHED-TTL:P3D
REFRESH-INTERVAL:P3D
CALSCALE:GREGORIAN
BEGIN:VEVENT
DTSTART:20230906T141500Z
DTEND:20230906T151500Z
X-MICROSOFT-CDO-ALLDAYEVENT:FALSE
SUMMARY:Understanding Medicaid and How to Protect Assets…Legally
DESCRIPTION:Elder Law Attorney\, Matt Margolis\, will discuss the ins and outs of Medicaid (for nursing homes and supportive living facilities) and why it's never too late to protect your assets.
X-ALT-DESC;FMTTYPE=text/html:Elder Law Attorney\, Matt Margolis\, will discuss the ins and outs of Medicaid (for nursing homes and supportive living facilities) and why it&rsquo\;s never too late to protect your assets.
LOCATION:Online Event -Must be registered
UID:e.434.10764
SEQUENCE:3
DTSTAMP:20260421T011043Z
URL:https://business.glenviewchamber.com/events/details/understanding-medicaid-and-how-to-protect-assets-legally-10764
END:VEVENT

END:VCALENDAR
