BEGIN:VCALENDAR
VERSION:2.0
PRODID:-//ChamberMaster//Event Calendar 2.0//EN
METHOD:PUBLISH
X-PUBLISHED-TTL:P3D
REFRESH-INTERVAL:P3D
CALSCALE:GREGORIAN
BEGIN:VEVENT
DTSTART:20240207T151500Z
DTEND:20240207T161500Z
X-MICROSOFT-CDO-ALLDAYEVENT:FALSE
SUMMARY:Understanding Medicaid and how to Protect Assets…Legally Matt Margolis\, Margolis Weldon LLC.
DESCRIPTION:Elder Law Attorney\, Matt Margolis\, will discuss the ins and outs of Medicaid (for nursing homes and supportive living facilities) and why it's never too late to protect your assets.
X-ALT-DESC;FMTTYPE=text/html:Elder Law Attorney\, Matt Margolis\, will discuss the ins and outs of Medicaid (for nursing homes and supportive living facilities) and why it&rsquo\;s never too late to protect your assets.
LOCATION:Online
UID:e.434.10886
SEQUENCE:3
DTSTAMP:20260420T130340Z
URL:https://business.glenviewchamber.com/events/details/understanding-medicaid-and-how-to-protect-assets-legally-matt-margolis-margolis-weldon-llc-10886
END:VEVENT

END:VCALENDAR
