BEGIN:VCALENDAR
VERSION:2.0
PRODID:-//ChamberMaster//Event Calendar 2.0//EN
METHOD:PUBLISH
X-PUBLISHED-TTL:P3D
REFRESH-INTERVAL:P3D
CALSCALE:GREGORIAN
BEGIN:VEVENT
DTSTART:20201218T010000Z
DTEND:20201218T040000Z
X-MICROSOFT-CDO-ALLDAYEVENT:FALSE
SUMMARY:Village Open House Via Zoom
DESCRIPTION:At this event\, the community will have a front row seat in actively participating and engaging in discussion. We'll start by sharing key themes that are starting to emerge from Board Workshop #2\, the Self-Guided Site Tour Questionnaires and Community Survey. Next we'll discuss initial land use opportunities and market strategies for each of the five study areas. We'll actively engage in conversation where we consider what should stay\, what should go and what should be fixed or improved in each area. Lastly\, we'll conduct an image preference survey where we gauge your interest in a variety of images. We'll discuss the look and feel for various categories of images\, from streetscape\, public space and parking to residential\, retail and office. This will be an engaging night of discussion and we hope you'll join us to keep the conversation moving towards our bright future.\n\nJOIN VIA ZOOM LINK:\n\nhttps://zoom.us/j/93623361300
X-ALT-DESC;FMTTYPE=text/html:<p style="font-family: &quot\;Roboto Regular&quot\;\, sans-serif\; font-size: 15px\; letter-spacing: 0.01em\; margin-top: 0px\; overflow-wrap: break-word\; color: rgb(71\, 69\, 84)\; white-space: pre-wrap\;">At this event\, the community will have a front row seat in actively participating and engaging in discussion. We&rsquo\;ll start by sharing key themes that are starting to emerge from Board Workshop #2\, the Self-Guided Site Tour Questionnaires and Community Survey. Next we&rsquo\;ll discuss initial land use opportunities and market strategies for each of the five study areas. We&rsquo\;ll actively engage in conversation where we consider what should stay\, what should go and what should be fixed or improved in each area. Lastly\, we&rsquo\;ll conduct an image preference survey where we gauge your interest in a variety of images. We&rsquo\;ll discuss the look and feel for various categories of images\, from streetscape\, public space and parking to residential\, retail and office. This will be an engaging night of discussion and we hope you&rsquo\;ll join us to keep the conversation moving towards our bright future.</p>\n\n<p id="yui_3_17_2_1_1607114743137_195" style="font-family: &quot\;Roboto Regular&quot\;\, sans-serif\; font-size: 15px\; letter-spacing: 0.01em\; overflow-wrap: break-word\; color: rgb(71\, 69\, 84)\; white-space: pre-wrap\;"><strong id="yui_3_17_2_1_1607114743137_198" style="overflow-wrap: break-word\;">JOIN VIA ZOOM LINK:</strong><br style="overflow-wrap: break-word\;" />\n<a href="https://nam02.safelinks.protection.outlook.com/?url=https%3A%2F%2Fzoom.us%2Fj%2F93623361300&amp\;data=04%7C01%7C%7C15b532c3972b450b52b508d896dbd515%7C7f90057d3ea046feb07ce0568627081b%7C0%7C0%7C637425218676628679%7CUnknown%7CTWFpbGZsb3d8eyJWIjoiMC4wLjAwMDAiLCJQIjoiV2luMzIiLCJBTiI6Ik1haWwiLCJXVCI6Mn0%3D%7C1000&amp\;sdata=e98hN71Ax%2BL6%2F7qhZg2%2BdR57RTl8OxRMAftaKwJxsDI%3D&amp\;reserved=0" style="background-color: transparent\; color: rgb(71\, 69\, 84)\; text-decoration-line: none\; padding-bottom: 0.05em\; border-bottom: 1px solid rgba(71\, 69\, 84\, 0.3)\; transition: border-color 0.15s ease-out 0s\, color 0.15s ease-out 0s\; overflow-wrap: break-word\;">https://zoom.us/j/93623361300</a></p>\n
LOCATION:
UID:e.434.10516
SEQUENCE:3
DTSTAMP:20260422T183106Z
URL:https://business.glenviewchamber.com/events/details/village-open-house-via-zoom-10516
END:VEVENT

END:VCALENDAR
