BEGIN:VCALENDAR
VERSION:2.0
PRODID:-//ChamberMaster//Event Calendar 2.0//EN
METHOD:PUBLISH
X-PUBLISHED-TTL:P3D
REFRESH-INTERVAL:P3D
CALSCALE:GREGORIAN
BEGIN:VEVENT
DTSTART:20200611T170000Z
DTEND:20200611T180000Z
X-MICROSOFT-CDO-ALLDAYEVENT:FALSE
SUMMARY:VIRTUAL -- Board Meeting
DESCRIPTION:********************VIRTUAL VIA ZOOM**********************\n\n The Glenview Chamber of Commerce Board of Directors is comprised of business leaders representing every region and industry in Glenview who are working to secure Glenview's future.\n\nBoard members invest their time\, resources and expertise to further the substantial pro-business legislative\, research\, political and grassroots activities of the Chamber and The Village of Glenview.
X-ALT-DESC;FMTTYPE=text/html:<p style="outline: 0px\; border: 0px\; font-size: 14px\; margin: 0px 0px 15px\; padding: 0px\; vertical-align: baseline\; font-family: 'PT Sans'\, 'Helvetica Neue'\, Helvetica\, Arial\, sans-serif\; line-height: 22px\; background-image: initial\; background-attachment: initial\; background-size: initial\; background-origin: initial\; background-clip: initial\; background-position: initial\; background-repeat: initial\;">********************VIRTUAL VIA ZOOM**********************<br />\n&nbsp\;The Glenview Chamber of Commerce&nbsp\;Board of Directors is comprised of business leaders representing every region and industry in Glenview who are working to secure Glenview&#39\;s future.</p>\n\n<p style="outline: 0px\; border: 0px\; font-size: 14px\; margin: 0px 0px 15px\; padding: 0px\; vertical-align: baseline\; font-family: 'PT Sans'\, 'Helvetica Neue'\, Helvetica\, Arial\, sans-serif\; line-height: 22px\; background-image: initial\; background-attachment: initial\; background-size: initial\; background-origin: initial\; background-clip: initial\; background-position: initial\; background-repeat: initial\;">Board members invest their time\, resources and expertise to further the substantial pro-business legislative\, research\, political and grassroots activities of the Chamber and The Village of Glenview.</p>\n
LOCATION:Joseph Mullarkey Distributors 2200 Ridge Glenview
UID:e.434.2735
SEQUENCE:3
DTSTAMP:20260423T064037Z
URL:https://business.glenviewchamber.com/events/details/virtual-board-meeting-06-11-2020-2735
END:VEVENT

END:VCALENDAR
