BEGIN:VCALENDAR
VERSION:2.0
PRODID:-//ChamberMaster//Event Calendar 2.0//EN
METHOD:PUBLISH
X-PUBLISHED-TTL:P3D
REFRESH-INTERVAL:P3D
CALSCALE:GREGORIAN
BEGIN:VEVENT
DTSTART:20230216T180000Z
DTEND:20230216T193000Z
X-MICROSOFT-CDO-ALLDAYEVENT:FALSE
SUMMARY:VIRTUAL Mega Connect Lunch
DESCRIPTION:Multiple your connections with this Mega Connect Virtual Lunch. We will have members from 20 different Illinois chambers to meet and greet. \n\nRegister online and zoom link and instructions will be emailed when the date gets closer.
X-ALT-DESC;FMTTYPE=text/html:Multiple your connections with this Mega Connect Virtual Lunch. We will have members from 20 different Illinois chambers to meet and greet.&nbsp\;<br />\nRegister online and zoom link and instructions will be emailed when the date gets closer.&nbsp\;
LOCATION:
UID:e.434.10717
SEQUENCE:3
DTSTAMP:20260421T045517Z
URL:https://business.glenviewchamber.com/events/details/virtual-mega-connect-lunch-10717
END:VEVENT

END:VCALENDAR
