BEGIN:VCALENDAR
VERSION:2.0
PRODID:-//ChamberMaster//Event Calendar 2.0//EN
METHOD:PUBLISH
X-PUBLISHED-TTL:P3D
REFRESH-INTERVAL:P3D
CALSCALE:GREGORIAN
BEGIN:VEVENT
DTSTART:20210513T170000Z
DTEND:20210513T183000Z
X-MICROSOFT-CDO-ALLDAYEVENT:FALSE
SUMMARY:Virtual Multi-Chamber Networking (Lunch)
DESCRIPTION:Virtual Multi-Chamber Networking (Lunch)\n\nRegistration & Payment Due by 5:00 p.m. by May 10\, 2021\n\n \n\nMultiply your networking potential! Members looking for a productive on-line networking experience will enjoy the structured format of this program\, which gives each participant an opportunity to speak to a receptive audience about his/her company's products and services. The event will begin with informal networking while you enjoy lunch from your favorite local restaurant (optional). Attendees will then be divided into small groups and assigned to "Breakout Rooms" where everyone will give 2-minute presentations on their companies. There will be multiple\, random rotations through Breakout Rooms to get you maximum exposure for your business. In addition\, everyone will receive a contact list of participants via email before the event. Don't miss this unique opportunity to expand your reach and resources while maintaining your social distance!\n\nPlease log in on time to get the most out of this unique networking experience.
X-ALT-DESC;FMTTYPE=text/html:<span style="font-size:14px\;"><span style="font-family:tahoma\;"><strong>Virtual Multi-Chamber Networking (Lunch)</strong></span></span><br />\n<strong><span style="color:black\;"><span style="font-family:calibri\,sans-serif\;"><span style="font-size:14.0pt\;">Registration &amp\; Payment Due by 5:00 p.m. by May 10\, 2021</span></span></span></strong><br />\n&nbsp\;<br />\n<span style="font-family:calibri\,sans-serif\;">Multiply your networking potential! Members looking for a productive on-line networking experience will enjoy the structured format of this program\, which gives each participant an opportunity to speak to a receptive audience about his/her company&rsquo\;s products and services. The event will begin with informal networking while you enjoy lunch from your favorite local restaurant (optional). Attendees will then be divided into small groups and assigned to &ldquo\;Breakout Rooms&rdquo\; where everyone will give 2-minute presentations on their companies. There will be multiple\, random rotations through Breakout Rooms to get you maximum exposure for your business. In addition\, everyone will receive a contact list of participants via email before the event. Don&rsquo\;t miss this unique opportunity to expand your reach and resources while maintaining your social distance!</span><br />\n<span style="color:#C00000\;"><span style="font-family:calibri\,sans-serif\;">Please log in on time to get the most out of this unique networking experience.</span></span><br />\n&nbsp\;
LOCATION:
UID:e.434.10544
SEQUENCE:3
DTSTAMP:20260422T131313Z
URL:https://business.glenviewchamber.com/events/details/virtual-multi-chamber-networking-lunch-10544
END:VEVENT

END:VCALENDAR
