BEGIN:VCALENDAR
VERSION:2.0
PRODID:-//ChamberMaster//Event Calendar 2.0//EN
METHOD:PUBLISH
X-PUBLISHED-TTL:P3D
REFRESH-INTERVAL:P3D
CALSCALE:GREGORIAN
BEGIN:VEVENT
DTSTART:20210504T140000Z
DTEND:20210504T150000Z
X-MICROSOFT-CDO-ALLDAYEVENT:FALSE
SUMMARY:Virtual: The State of Small Business Assistance
DESCRIPTION:Looking for assistance for your small business? Attend our panel discussion to hear representatives from Congresswoman Jan Schakowsky\, State Representative Jennifer Gong-Gershowitz\, and the Small Business Advocacy Council discuss the current landscape of government and other resources available to benefit small businesses. Panelists will be available for questions. \n\n\n\nProgram presented in partnership by Wilmette\, Skokie\, Evanston & Glenview Public Libraries and the Wilmette/Kenilworth\, Skokie\, Glenview and Evanston Chambers of Commerce. \n\nRegister via Evanston Public Library's program calendar.
X-ALT-DESC;FMTTYPE=text/html:<span style="font-family:calibri\,sans-serif\;">Looking for assistance for your small business? Attend our panel discussion to hear representatives from Congresswoman Jan Schakowsky\, State Representative Jennifer Gong-Gershowitz\, and the Small Business Advocacy Council discuss the current landscape of government and other resources available to benefit small businesses. Panelists will be available for questions.</span>&nbsp\;<br />\n<br style="box-sizing:border-box\;" />\n<span style="font-variant-ligatures:none !important\;box-sizing:border-box\;"><span style="font-family:calibri\,sans-serif\;">Program presented in partnership by Wilmette\, Skokie\, Evanston &amp\; Glenview Public Libraries and the Wilmette/Kenilworth\, Skokie\, Glenview and Evanston Chambers of Commerce.</span></span>&nbsp\;<br />\n<span style="box-sizing:border-box\;"><span style="font-family:calibri\,sans-serif\;">Register via Evanston Public Library&#39\;s&nbsp\;<a data-auth="NotApplicable" href="https://evanston.libnet.info/event/4898745" style="box-sizing:border-box\;" target="_blank" title=""><span style="color:#388733\;">program calendar</span></a>.</span></span>
LOCATION:
UID:e.434.10539
SEQUENCE:3
DTSTAMP:20260422T104809Z
URL:https://business.glenviewchamber.com/events/details/virtual-the-state-of-small-business-assistance-10539
END:VEVENT

END:VCALENDAR
