BEGIN:VCALENDAR
VERSION:2.0
PRODID:-//ChamberMaster//Event Calendar 2.0//EN
METHOD:PUBLISH
X-PUBLISHED-TTL:P3D
REFRESH-INTERVAL:P3D
CALSCALE:GREGORIAN
BEGIN:VEVENT
DTSTART:20200722T170000Z
DTEND:20200722T180000Z
X-MICROSOFT-CDO-ALLDAYEVENT:FALSE
SUMMARY:VIRTUAL Zoom Notorious RBG
DESCRIPTION:Zoom Tour Invite - Notorious RBG\n\nThe Life and Times of Ruth Bader Ginsburg\n\n\n\nJoin your fellow Chamber members for a virtual tour of this groundbreaking exhibit.
X-ALT-DESC;FMTTYPE=text/html:Zoom Tour Invite - Notorious RBG<br />\nThe Life and Times of Ruth Bader Ginsburg<br />\n<br />\nJoin your fellow Chamber members for a virtual tour of this groundbreaking exhibit.&nbsp\;
LOCATION:
UID:e.434.10386
SEQUENCE:3
DTSTAMP:20260422T233855Z
URL:https://business.glenviewchamber.com/events/details/virtual-zoom-notorious-rbg-10386
END:VEVENT

END:VCALENDAR
