BEGIN:VCALENDAR
VERSION:2.0
PRODID:-//ChamberMaster//Event Calendar 2.0//EN
METHOD:PUBLISH
X-PUBLISHED-TTL:P3D
REFRESH-INTERVAL:P3D
CALSCALE:GREGORIAN
BEGIN:VEVENT
DTSTART:20240316T150000Z
DTEND:20240316T180000Z
X-MICROSOFT-CDO-ALLDAYEVENT:FALSE
SUMMARY:Volunteer Fair
DESCRIPTION:Join us to hear from local non-profits and service organizations looking to fill volunteer opportunities fit for a wide range of ages and abilities.
X-ALT-DESC;FMTTYPE=text/html:Join us to hear from local non-profits and service organizations looking to fill volunteer opportunities fit for a wide range of ages and abilities.&nbsp\;
LOCATION:Glenview Public Library\, 1930 Glenview Road\, Community Room\, Glenview
UID:e.434.10914
SEQUENCE:3
DTSTAMP:20260420T130711Z
URL:https://business.glenviewchamber.com/events/details/volunteer-fair-10914
END:VEVENT

END:VCALENDAR
