BEGIN:VCALENDAR
VERSION:2.0
PRODID:-//ChamberMaster//Event Calendar 2.0//EN
METHOD:PUBLISH
X-PUBLISHED-TTL:P3D
REFRESH-INTERVAL:P3D
CALSCALE:GREGORIAN
BEGIN:VEVENT
DTSTART:20200826T203000Z
DTEND:20200826T213000Z
X-MICROSOFT-CDO-ALLDAYEVENT:FALSE
SUMMARY:Webinar: Meeting the Illinois Mandate on Sexual Harassment Training
DESCRIPTION:On January 1\, 2020\, the Illinois Workplace Transparency Act (WTA)\, a sweeping piece of legislation that imposes a variety of restrictions and requirements on employers relating to workplace discrimination and harassment\, took effect. Among other requirements\, the WTA mandates that all Illinois employers provide sexual harassment training to all employees by December 31 of this year\, and annually thereafter. In our August Ask An Expert webinar\, attorney Susan Troester\, LaPointe Law will offer employers guidance on fulfilling their responsibility under the law and introduce the benchmark training materials published by the Illinois Department of Human Rights.  Susan focuses her legal practice exclusively on counseling small business\, not-for-profit\, and public organization clients on a full range of employee related issues. She has shared her expertise with Chamber members at a number of roundtable events.
X-ALT-DESC;FMTTYPE=text/html:<span style="color: rgb(68\, 68\, 68)\; font-family: Roboto\, Arial\, sans-serif\; font-size: 15px\;">On January 1\, 2020\, the Illinois Workplace Transparency Act (WTA)\, a sweeping piece of legislation that imposes a variety of restrictions and requirements on employers relating to workplace discrimination and harassment\, took effect. Among other requirements\, the WTA mandates that all Illinois employers provide sexual harassment training to all employees by December 31 of this year\, and annually thereafter. In our August&nbsp\;</span><em style="box-sizing: content-box\; border: none\; font-variant-numeric: inherit\; font-variant-east-asian: inherit\; font-stretch: inherit\; font-size: 15px\; line-height: inherit\; font-family: Roboto\, Arial\, sans-serif\; vertical-align: baseline\; margin: 0px\; padding: 0px\; background-image: none\; background-position: initial\; background-size: initial\; background-repeat: initial\; background-attachment: initial\; background-origin: initial\; background-clip: initial\; border-collapse: separate\; border-radius: 0px\; bottom: auto\; clear: none\; color: rgb(68\, 68\, 68)\; content: normal\; direction: inherit\; display: inline\; empty-cells: show\; float: none\; left: auto\; max-height: none\; max-width: none\; min-height: initial\; min-width: initial\; opacity: 1\; outline-offset: 0px\; overflow: visible\; position: static\; resize: none\; right: auto\; table-layout: auto\; text-overflow: clip\; top: auto\; visibility: inherit\; word-break: inherit\; overflow-wrap: inherit\; z-index: auto\; height: auto\; width: auto\; box-shadow: none\;">Ask An Expert</em><span style="color: rgb(68\, 68\, 68)\; font-family: Roboto\, Arial\, sans-serif\; font-size: 15px\;">&nbsp\;webinar\, attorney Susan Troester\,&nbsp\;</span><span style="box-sizing: content-box\; border: none\; font-variant-numeric: inherit\; font-variant-east-asian: inherit\; font-weight: 700\; font-stretch: inherit\; font-size: 15px\; line-height: inherit\; font-family: Roboto\, Arial\, sans-serif\; vertical-align: baseline\; margin: 0px\; padding: 0px\; background-image: none\; background-position: initial\; background-size: initial\; background-repeat: initial\; background-attachment: initial\; background-origin: initial\; background-clip: initial\; border-collapse: separate\; border-radius: 0px\; bottom: auto\; clear: none\; color: rgb(68\, 68\, 68)\; content: normal\; direction: inherit\; empty-cells: show\; left: auto\; max-height: none\; max-width: none\; min-height: initial\; min-width: initial\; opacity: 1\; outline-offset: 0px\; overflow: visible\; position: static\; resize: none\; right: auto\; table-layout: auto\; text-overflow: clip\; top: auto\; visibility: inherit\; word-break: inherit\; overflow-wrap: inherit\; z-index: auto\; height: auto\; width: auto\; box-shadow: none\;">LaPointe Law</span><span style="color: rgb(68\, 68\, 68)\; font-family: Roboto\, Arial\, sans-serif\; font-size: 15px\;">&nbsp\;will offer employers guidance on fulfilling their responsibility under the law and introduce the benchmark training materials published by the Illinois Department of Human Rights. &nbsp\;Susan focuses her legal practice exclusively on counseling small business\, not-for-profit\, and public organization clients on a full range of employee related issues. She has shared her expertise with Chamber members at a number of roundtable events.&nbsp\;&nbsp\;</span>
LOCATION:Register here for the webinar: https://us02web.zoom.us/meeting/register/tZ0qf-2hrz0uGtCDm3KSJAgr9vbIoAWJQmad
UID:e.434.10463
SEQUENCE:3
DTSTAMP:20260422T223555Z
URL:https://business.glenviewchamber.com/events/details/webinar-meeting-the-illinois-mandate-on-sexual-harassment-training-10463
END:VEVENT

END:VCALENDAR
