BEGIN:VCALENDAR
VERSION:2.0
PRODID:-//ChamberMaster//Event Calendar 2.0//EN
METHOD:PUBLISH
X-PUBLISHED-TTL:P3D
REFRESH-INTERVAL:P3D
CALSCALE:GREGORIAN
BEGIN:VEVENT
DTSTART:20230829T163000Z
DTEND:20230829T180000Z
X-MICROSOFT-CDO-ALLDAYEVENT:FALSE
SUMMARY:Wellness Group Networking
DESCRIPTION:Join us for our Wellness Group Networking on August 29 from 11:30-1pm at O'Grady Law Group\, 2222 Chestnut Avenue\, 3rd Floor Conference Room for lunch and networking with host speaker Laura Shelley\, BS\, RN\, BSN\, CBCN of Advocate Health Care to discussion new breast cancer detection and prevention methods. The goal of this group is to connect with peers in the wellness field and understand how we can best support one another. We will discuss upcoming health fairs and other opportunities to connect your business to the Glenview community. Feel free to bring any staff or co-workers to attend as well.
X-ALT-DESC;FMTTYPE=text/html:<span style="font-family:calibri\,sans-serif\;"><span style="font-size:11.0pt\;">Join us for our <strong>Wellness Group Networking on August 29 from 11:30-1pm at O&rsquo\;Grady Law Group</strong>\, 2222 Chestnut Avenue\, 3<sup>rd</sup> Floor Conference Room for lunch and networking with host speaker Laura Shelley\, BS\, RN\, BSN\, CBCN of Advocate Health Care to discussion new breast cancer detection and prevention methods. The goal of this group is to connect with peers in the wellness field and understand how we can best support one another. We will discuss upcoming health fairs and other opportunities to connect your business to the Glenview community. Feel free to bring any staff or co-workers to attend as well.&nbsp\;</span></span>
LOCATION:O'Grady Law Group\, 2222 Chestnut Avenue\, 3rd Floor Conference Room
UID:e.434.10770
SEQUENCE:3
DTSTAMP:20260420T200716Z
URL:https://business.glenviewchamber.com/events/details/wellness-group-networking-08-29-2023-10770
END:VEVENT

END:VCALENDAR
