BEGIN:VCALENDAR
VERSION:2.0
PRODID:-//ChamberMaster//Event Calendar 2.0//EN
METHOD:PUBLISH
X-PUBLISHED-TTL:P3D
REFRESH-INTERVAL:P3D
CALSCALE:GREGORIAN
BEGIN:VEVENT
DTSTART:20230606T130000Z
DTEND:20230606T140000Z
X-MICROSOFT-CDO-ALLDAYEVENT:FALSE
SUMMARY:Wellness Group Networking
DESCRIPTION:Join us for our Wellness Group Networking on June 6 from 8-9am at O'Grady Law Group\, 2222 Chestnut Avenue\, 3rd Floor Conference Room for coffee and networking to connect with others in the wellness field and understand how we can best support one another. We will discuss upcoming health fairs and other opportunities for brand exposure to the Glenview community in 2023.
X-ALT-DESC;FMTTYPE=text/html:<span style="font-family:calibri\,sans-serif\;"><span style="font-size:11.0pt\;">Join us for our Wellness Group Networking on June 6 from 8-9am at O&rsquo\;Grady Law Group\, 2222 Chestnut Avenue\, 3<sup>rd</sup> Floor Conference Room for coffee and networking to connect with others in the wellness field and understand how we can best support one another. We will discuss upcoming health fairs and other opportunities for brand exposure to the Glenview community in 2023.&nbsp\;</span></span>
LOCATION:O'Grady Law Group 222 Chestnut Avenue 3rd Floor Conference Room
UID:e.434.10750
SEQUENCE:3
DTSTAMP:20260420T225559Z
URL:https://business.glenviewchamber.com/events/details/wellness-group-networking-10750
END:VEVENT

END:VCALENDAR
