BEGIN:VCALENDAR
VERSION:2.0
PRODID:-//ChamberMaster//Event Calendar 2.0//EN
METHOD:PUBLISH
X-PUBLISHED-TTL:P3D
REFRESH-INTERVAL:P3D
CALSCALE:GREGORIAN
BEGIN:VEVENT
DTSTART:20240131T180000Z
DTEND:20240131T190000Z
X-MICROSOFT-CDO-ALLDAYEVENT:FALSE
SUMMARY:Wellness Group: Upper Neck 101: How Neck Injuries Affect Posture and Brain Health
DESCRIPTION:Join the Wellness Group for the first event of 2024 with lunch and networking. Topic is How Neck Injuries Affect Posture and Brain Health hosted by Head and Neck Spinal Care.
X-ALT-DESC;FMTTYPE=text/html:<span style="font-size:12px\;"><span style="font-family:tahoma\;">Join the Wellness Group for the first event of 2024 with lunch and networking. Topic is How Neck Injuries Affect Posture and Brain Health hosted by Head and Neck Spinal Care.</span></span>
LOCATION:O'Grady Law Group\, 2222 Chestnut Ave\, Suite #304\, Glenview\, IL
UID:e.434.10894
SEQUENCE:3
DTSTAMP:20260420T214115Z
URL:https://business.glenviewchamber.com/events/details/wellness-group-upper-neck-101-how-neck-injuries-affect-posture-and-brain-health-10894
END:VEVENT

END:VCALENDAR
