BEGIN:VCALENDAR
VERSION:2.0
PRODID:-//ChamberMaster//Event Calendar 2.0//EN
METHOD:PUBLISH
X-PUBLISHED-TTL:P3D
REFRESH-INTERVAL:P3D
CALSCALE:GREGORIAN
BEGIN:VEVENT
DTSTART:20240124T010000Z
DTEND:20240124T020000Z
X-MICROSOFT-CDO-ALLDAYEVENT:FALSE
SUMMARY:What Is Pain Management
DESCRIPTION:Pain can be debilitating and frustrating. It may interfere with sleep\, work\, activities\, and quality time with friends and family. Whether you're dealing with sudden knee pain\, chronic back pain\, persistent hand pain\, or a condition impacting your life\, finding the right help is important in taking control of your pain. Learn about the treatment options available to improve your function and quality of life from IBJI's Craig Malk\, MD.
X-ALT-DESC;FMTTYPE=text/html:Pain can be debilitating and frustrating. It may interfere with sleep\, work\, activities\, and quality time with friends and family. Whether you&#39\;re dealing with sudden knee pain\, chronic back pain\, persistent hand pain\, or a condition impacting your life\, finding the right help is important in taking control of your pain. Learn about the treatment options available to improve your function and quality of life from IBJI&rsquo\;s Craig Malk\, MD.
LOCATION:Virtual
UID:e.434.10881
SEQUENCE:3
DTSTAMP:20260420T203115Z
URL:https://business.glenviewchamber.com/events/details/what-is-pain-management-10881
END:VEVENT

END:VCALENDAR
