BEGIN:VCALENDAR
VERSION:2.0
PRODID:-//ChamberMaster//Event Calendar 2.0//EN
METHOD:PUBLISH
X-PUBLISHED-TTL:P3D
REFRESH-INTERVAL:P3D
CALSCALE:GREGORIAN
BEGIN:VEVENT
DTSTART:20230728T000000Z
DTEND:20230728T010000Z
X-MICROSOFT-CDO-ALLDAYEVENT:FALSE
SUMMARY:What is Regenerative Medicine?
DESCRIPTION:Regenerative medicine is a fairly new method of treatment for numerous orthopedic conditions such as muscle\, ligament\, and tendon injuries\, as well as arthritis and fractures. Learn more about the types of regenerative medicine treatment options available from Michael Chiu\, MD at IBJI.
X-ALT-DESC;FMTTYPE=text/html:Regenerative medicine is a fairly new method of treatment for numerous orthopedic conditions such as muscle\, ligament\, and tendon injuries\, as well as arthritis and fractures. Learn more about the types of regenerative medicine treatment options available from Michael Chiu\, MD at IBJI.
LOCATION:Online Event
UID:e.434.10758
SEQUENCE:3
DTSTAMP:20260421T003459Z
URL:https://business.glenviewchamber.com/events/details/what-is-regenerative-medicine-10758
END:VEVENT

END:VCALENDAR
