BEGIN:VCALENDAR
VERSION:2.0
PRODID:-//ChamberMaster//Event Calendar 2.0//EN
METHOD:PUBLISH
X-PUBLISHED-TTL:P3D
REFRESH-INTERVAL:P3D
CALSCALE:GREGORIAN
BEGIN:VEVENT
DTSTART:20200930T220000Z
DTEND:20201001T000000Z
X-MICROSOFT-CDO-ALLDAYEVENT:FALSE
SUMMARY:Wine Down Wednesday
DESCRIPTION:Wine Down Wednesday\n\nSeptember 30\, 5 pm\n\n \n\nJoin Chamber Members for a small in person networking at Johnny's Kitchen & Tap\, 1740 Milwaukee Avenue this week at 5 pm in the outdoor tent.
X-ALT-DESC;FMTTYPE=text/html:<div style="color: rgb(96\, 109\, 120)\; font-family: Helvetica\, Arial\, sans-serif\; font-size: 14px\; white-space: pre-wrap\; text-align: center\;"><span style="font-size: 16px\; color: rgb(26\, 26\, 26)\; font-weight: bold\; font-family: Calibri\, Helvetica\, Arial\, sans-serif\;">Wine Down Wednesday</span></div>\n\n<div style="color: rgb(96\, 109\, 120)\; font-family: Helvetica\, Arial\, sans-serif\; font-size: 14px\; white-space: pre-wrap\; text-align: center\;"><span style="font-size: 16px\; color: rgb(26\, 26\, 26)\; font-weight: bold\; font-family: Calibri\, Helvetica\, Arial\, sans-serif\;">September 30\, 5 pm</span></div>\n\n<div style="color: rgb(96\, 109\, 120)\; font-family: Helvetica\, Arial\, sans-serif\; font-size: 14px\; white-space: pre-wrap\;">&nbsp\;</div>\n\n<div style="color: rgb(96\, 109\, 120)\; font-family: Helvetica\, Arial\, sans-serif\; font-size: 14px\; white-space: pre-wrap\;"><span style="color: rgb(26\, 26\, 26)\; font-family: Calibri\, Helvetica\, Arial\, sans-serif\; font-size: 16px\;">Join Chamber Members for a small in person networking at Johnny&rsquo\;s Kitchen &amp\; Tap\, 1740 Milwaukee Avenue this week at 5 pm in the outdoor tent. </span></div>\n
LOCATION:Johnny's Kitchen & Tap\, 1740 Milwaukee Avenue
UID:e.434.10472
SEQUENCE:3
DTSTAMP:20260422T210652Z
URL:https://business.glenviewchamber.com/events/details/wine-down-wednesday-10472
END:VEVENT

END:VCALENDAR
