BEGIN:VCALENDAR
VERSION:2.0
PRODID:-//ChamberMaster//Event Calendar 2.0//EN
METHOD:PUBLISH
X-PUBLISHED-TTL:P3D
REFRESH-INTERVAL:P3D
CALSCALE:GREGORIAN
BEGIN:VEVENT
DTSTART:20240424T170000Z
DTEND:20240424T183000Z
X-MICROSOFT-CDO-ALLDAYEVENT:FALSE
SUMMARY:Women's Multichamber Networking Lunch
DESCRIPTION:Join us for a multi-chamber women's networking luncheon event. Experience the opportunity to network with a variety of women across chambers. Lunch will be provided.
X-ALT-DESC;FMTTYPE=text/html:Join us for a multi-chamber women&#39\;s networking luncheon event. Experience the opportunity to network with a variety of women across chambers. Lunch will be provided.&nbsp\;
LOCATION:DoubleTree in Skokie
UID:e.434.10929
SEQUENCE:3
DTSTAMP:20260420T112430Z
URL:https://business.glenviewchamber.com/events/details/women-s-multichamber-networking-lunch-10929
END:VEVENT

END:VCALENDAR
