BEGIN:VCALENDAR
VERSION:2.0
PRODID:-//ChamberMaster//Event Calendar 2.0//EN
METHOD:PUBLISH
X-PUBLISHED-TTL:P3D
REFRESH-INTERVAL:P3D
CALSCALE:GREGORIAN
BEGIN:VEVENT
DTSTART:20210720T164500Z
DTEND:20210720T180000Z
X-MICROSOFT-CDO-ALLDAYEVENT:FALSE
SUMMARY:Women's Networking Lunch
DESCRIPTION:The Women's Networking Luncheon provides a platform for members of the Glenview Chamber to create solid relationships\, further professional development\, and build strategic alliances. This unique environment is a gathering place for individuals with diverse levels of professional experiences to share ideas and mentor each other.\n\nThe program is structured around helping create a strong professional network\, and participants have an opportunity to engage with other members in a casual setting. The dedicated hour of your day\, will empower you to strengthen your business and connection to the community. \n\nBody & Brain Tai Chi Northbrook will be offering Aura Readings at this lunch. An aura is an image of your current energy condition represented by different colors. The colors in an Aura Reading can reveal your body-mind balance\, stress and vitality.  By understanding the current energetic condition of the body\, mind and emotions\, you can make some adjustments to help optimize health\, sleep\, level of energy\, relaxation and focus. During the Aura Reading event\, participants will be shown a picture of their current energetic condition and provide some recommendations on how to bring the body mind and emotions into balance.
X-ALT-DESC;FMTTYPE=text/html:<p style="font-variant-numeric: normal\; font-variant-east-asian: normal\; font-stretch: normal\; font-size: 16px\; line-height: 26px\; font-family: Roboto\, sans-serif\; margin: 0px 0px 26px\; padding: 0px\; border: 0px\; vertical-align: baseline\; color: rgb(34\, 34\, 34)\; box-sizing: border-box\;">The Women&#39\;s Networking Luncheon provides a platform for members of the Glenview Chamber&nbsp\;to create solid relationships\, further professional development\, and build strategic alliances. This unique environment is a gathering place for individuals with diverse levels of professional experiences to share ideas and mentor each other.</p>\n\n<p style="font-variant-numeric: normal\; font-variant-east-asian: normal\; font-stretch: normal\; font-size: 16px\; line-height: 26px\; font-family: Roboto\, sans-serif\; margin: 0px 0px 26px\; padding: 0px\; border: 0px\; vertical-align: baseline\; color: rgb(34\, 34\, 34)\; box-sizing: border-box\; outline: 0px\;">The program is structured around helping create a strong professional network\, and participants have an opportunity to engage with other members in a casual setting. The dedicated hour of your day\,&nbsp\;will empower you to strengthen your business and connection to the community.&nbsp\;</p>\n\n<p style="font-variant-numeric: normal\; font-variant-east-asian: normal\; font-stretch: normal\; font-size: 16px\; line-height: 26px\; font-family: Roboto\, sans-serif\; margin: 0px 0px 26px\; padding: 0px\; border: 0px\; vertical-align: baseline\; color: rgb(34\, 34\, 34)\; box-sizing: border-box\; outline: 0px\;">Body &amp\; Brain Tai Chi Northbrook will be offering Aura Readings at this lunch.&nbsp\;An aura is an image of your current energy condition represented by different colors. The colors in an Aura Reading can reveal your body-mind balance\, stress and vitality.&nbsp\; By understanding the current energetic condition of the body\, mind and emotions\, you can make some adjustments to help optimize health\, sleep\, level of energy\, relaxation and focus.&nbsp\;During the Aura Reading event\, participants will be shown a&nbsp\;picture of their current energetic condition and provide some recommendations on how to bring the body mind and emotions into balance.&nbsp\;</p>\n
LOCATION:Cafe Lucci 609 Milwaukee Avenue Glenview
UID:e.434.10562
SEQUENCE:3
DTSTAMP:20260422T082454Z
URL:https://business.glenviewchamber.com/events/details/women-s-networking-lunch-10562
END:VEVENT

END:VCALENDAR
