BEGIN:VCALENDAR
VERSION:2.0
PRODID:-//ChamberMaster//Event Calendar 2.0//EN
METHOD:PUBLISH
X-PUBLISHED-TTL:P3D
REFRESH-INTERVAL:P3D
CALSCALE:GREGORIAN
BEGIN:VEVENT
DTSTART:20190611T164500Z
DTEND:20190611T181500Z
X-MICROSOFT-CDO-ALLDAYEVENT:FALSE
SUMMARY:Women's Networking Luncheon
DESCRIPTION:Join us for a great lunch and opportunity to network with like-minded women from the Glenview\, Wilmette/Kenilworth\, and Winnetka/Northfield Chambers. We will have a special presentation from Avidor along with plenty of time to network!
X-ALT-DESC;FMTTYPE=text/html:<p style="box-sizing: border-box\; margin: 0px 0px 26px\; padding: 0px\; color: rgb(34\, 34\, 34)\; font-family: Roboto\, sans-serif\; font-size: 16px\; line-height: 26px\;"><strong><span style="color:#215868\;"><span style="font-family:arial\,sans-serif\;">Join us for a great lunch and opportunity to network with like-minded women from the Glenview\, Wilmette/Kenilworth\, and Winnetka/Northfield Chambers. We will have a special presentation from Avidor along with plenty of time to network!</span></span></strong></p>\n
LOCATION:Valley Lo Club Lake Room\, Lower Level 2200 Tanglewood Drive Glenview
UID:e.434.10094
SEQUENCE:3
DTSTAMP:20260425T162143Z
URL:https://business.glenviewchamber.com/events/details/women-s-networking-luncheon-10094
END:VEVENT

END:VCALENDAR
