BEGIN:VCALENDAR
VERSION:2.0
PRODID:-//ChamberMaster//Event Calendar 2.0//EN
METHOD:PUBLISH
X-PUBLISHED-TTL:P3D
REFRESH-INTERVAL:P3D
CALSCALE:GREGORIAN
BEGIN:VEVENT
DTSTART:20220316T163000Z
DTEND:20220316T180000Z
X-MICROSOFT-CDO-ALLDAYEVENT:FALSE
SUMMARY:Women's Networking Luncheon
DESCRIPTION:Join us and register below for our next Women's Networking Luncheon with speaker Lindsay Pinchuk on Empowering Small Business Owners to Grow Their Brand. This will be held on Wednesday\, March 16 from 11:30 am   1:00 pm at Marriott Deerfield\, 2 Parkway North\, Deerfield. Join us for a great lunch and opportunity to network with like-minded women from the Glenview Chamber\, Deerfield/Bannockburn/Riverwoods Chamber\, Buffalo Grove/Lincolnshire and Wheeling Chamber.
X-ALT-DESC;FMTTYPE=text/html:<span style="font-size:12px\;"><span style="font-family:tahoma\;"><span style="color:black\;">Join us and register below for our next Women&rsquo\;s Networking Luncheon with speaker Lindsay Pinchuk on Empowering Small Business Owners to Grow Their Brand. This will be held on </span><strong><span style="color:red\;">Wednesday\, March 16 from 11:30 am &ndash\; 1:00 pm</span></strong><span style="color:black\;"> at Marriott Deerfield\, 2 Parkway North\, Deerfield. <strong><span style="border:1pt none windowtext\;padding:0in\;font-weight:normal\;">Join us for a great lunch and opportunity to network with like-minded women from the Glenview Chamber\, Deerfield/Bannockburn/Riverwoods Chamber\, Buffalo Grove/Lincolnshire and Wheeling Chamber.</span></strong></span></span></span>
LOCATION:
UID:e.434.10592
SEQUENCE:3
DTSTAMP:20260421T203639Z
URL:https://business.glenviewchamber.com/events/details/women-s-networking-luncheon-10592
END:VEVENT

END:VCALENDAR
