BEGIN:VCALENDAR
VERSION:2.0
PRODID:-//ChamberMaster//Event Calendar 2.0//EN
METHOD:PUBLISH
X-PUBLISHED-TTL:P3D
REFRESH-INTERVAL:P3D
CALSCALE:GREGORIAN
BEGIN:VEVENT
DTSTART:20230621T170000Z
DTEND:20230621T183000Z
X-MICROSOFT-CDO-ALLDAYEVENT:FALSE
SUMMARY:Women's Networking Luncheon
DESCRIPTION:Connect with the strong\, successful and talented women in our community! Join us at our Women's Networking Luncheon on June 21  from 12:00pm-1:30pm at Renaissance Chicago Glenview Suites Hotel. The event is $16/per person includes lunch\, raffles\, and attendee contact list. This event is sponsored by Renaissance Chicago Glenview Suites Hotel.  No refunds after June 14th.
X-ALT-DESC;FMTTYPE=text/html:<span style="color: rgb(76\, 76\, 83)\; font-family: AsapRegular\, Arial\, sans-serif\; font-size: 14px\;">Connect with the strong\, successful and talented women in our community! Join us at our Women&rsquo\;s Networking Luncheon on June 21&nbsp\; from 12:00pm-1:30pm at Renaissance Chicago Glenview Suites Hotel. The event is $16/per person includes lunch\, raffles\, and attendee contact list. This event is sponsored by Renaissance Chicago Glenview Suites Hotel.&nbsp\; No refunds after June 14th.</span>
LOCATION:Renaissance Chicago Glenview Suites Hotel 1400 N. Milwaukee Avenue Glenview
UID:e.434.10753
SEQUENCE:3
DTSTAMP:20260420T225833Z
URL:https://business.glenviewchamber.com/events/details/women-s-networking-luncheon-10753
END:VEVENT

END:VCALENDAR
