BEGIN:VCALENDAR
VERSION:2.0
PRODID:-//ChamberMaster//Event Calendar 2.0//EN
METHOD:PUBLISH
X-PUBLISHED-TTL:P3D
REFRESH-INTERVAL:P3D
CALSCALE:GREGORIAN
BEGIN:VEVENT
DTSTART:20231004T141500Z
DTEND:20231004T151500Z
X-MICROSOFT-CDO-ALLDAYEVENT:FALSE
SUMMARY:YES (YMCA Education Series): Estate Planning 101
DESCRIPTION:Learn about importance of estate planning\, no matter your level of wealth. This discussion will cover what is important to include in your estate planning and how to use trusts and other tools to protect your loved ones.
X-ALT-DESC;FMTTYPE=text/html:Learn about importance of estate planning\, no matter your level of wealth. This discussion will cover what is important to include in your estate planning and how to use trusts and other tools to protect your loved ones.
LOCATION:Online
UID:e.434.10840
SEQUENCE:3
DTSTAMP:20260420T234115Z
URL:https://business.glenviewchamber.com/events/details/yes-ymca-education-series-estate-planning-101-10840
END:VEVENT

END:VCALENDAR
