BEGIN:VCALENDAR
VERSION:2.0
PRODID:-//ChamberMaster//Event Calendar 2.0//EN
METHOD:PUBLISH
X-PUBLISHED-TTL:P3D
REFRESH-INTERVAL:P3D
CALSCALE:GREGORIAN
BEGIN:VEVENT
DTSTART:20231019T170000Z
DTEND:20231019T180000Z
X-MICROSOFT-CDO-ALLDAYEVENT:FALSE
SUMMARY:YES (YMCA Education Series): Heal Low Back Pain and Sciatica
DESCRIPTION:Denise Schwartz\, a licensed physical therapist\, specializes in treating pain using a holistic approach to discover the root cause of pain and provide natural healing options.
X-ALT-DESC;FMTTYPE=text/html:Denise Schwartz\, a licensed physical therapist\, specializes in treating pain using a holistic approach to discover the root cause of pain and provide natural healing options.
LOCATION:Online
UID:e.434.10841
SEQUENCE:3
DTSTAMP:20260420T234213Z
URL:https://business.glenviewchamber.com/events/details/yes-ymca-education-series-heal-low-back-pain-and-sciatica-10841
END:VEVENT

END:VCALENDAR
