BEGIN:VCALENDAR
VERSION:2.0
PRODID:-//ChamberMaster//Event Calendar 2.0//EN
METHOD:PUBLISH
X-PUBLISHED-TTL:P3D
REFRESH-INTERVAL:P3D
CALSCALE:GREGORIAN
BEGIN:VEVENT
DTSTART;VALUE=DATE:20190801
DTEND;VALUE=DATE:20190802
TRANSP:TRANSPARENT
X-MICROSOFT-CDO-ALLDAYEVENT:TRUE
SUMMARY:Young Professionals Food Drive Begins
DESCRIPTION:Help fill the cupboards this August by participating in the YPG Food Drive to support the Northfield Township Food Pantry. The items most needed are: boxed cereal\, pancake mix\, soups\, rice mixes (i.e. Rice-a-Roni\, Zatarain's)\, cleaning and household items and personal hygiene items. \n\n\n\nHere's a list of participating local businesses where you can drop off items:\n22nd Century Media    \n\n@properties   Virginia Trux    \n\nAmerican Cancer Society    \n\nBaird & Warner Real Estate    \n\nBelmont Village Senior Living    \n\nChampionship Martial Arts    \n\nChiro Mend    \n\nCode Ninjas    \n\nColdwell Banker Residential Real Estate    \n\nCollege Nannies Sitters and Tutors Glenview    \n\nCompass Mortgage/Andrew Luett    \n\nCorePower Yoga Glenview    \n\nDevon Bank    \n\nEmerald Place- An Anthem Memory Care Community    \n\nFeed to Succeed\, LLC    \n\nGlenbrook Remodeling - Showroom    \n\nGlenview Bank & Trust    \n\nGlenview Grind    \n\nGlenview Park District    \n\nGlenview Public Library    \n\nGlenview State Bank    \n\nGV's Heating & Cooling Inc.    \n\nHackney's On Lake    \n\nHlavacek Florist of Glenview    \n\nInspire Counseling Center    \n\nKaren M. Patterson\, P.C.    \n\nLynch McPeek Wealth Management    \n\nMacushla Brewing Company    \n\nMedulla LLC    \n\nMY SALON Suite of Glenview    \n\nNorthwestern Medicine - Glenview Outpatient Center    \n\nO'Grady Law Group P.C.     \n\nOpal Enterprises Windows & Siding Co.    \n\nOrangetheory Fitness Glenview    \n\nPinot's Palette    \n\nPrintwell Printing    \n\nPurepoint Financial    \n\nReserve Glenview     \n\nSears Garage Doors    \n\nSors Salt Room    \n\nSt. Philip Lutheran Church    \n\nSweet Ali's Gluten Free Bakery    \n\nSweet Home Improvements    \n\nTeddie Kossof Salon and Spa    \n\nTipsy Paint    \n\nWesley Child Care Center\, Inc.    \n\nWillow Lake Orthodontics    \n\nWIN Athletic Club  \n\n\nNo tax dollars are used to support the pantry so it is up to the community to help when they need it most!
X-ALT-DESC;FMTTYPE=text/html:<span style="font-family:verdana\;">Help fill the cupboards this August by participating in the YPG Food Drive to support the Northfield Township Food Pantry. The items most needed are: boxed cereal\, pancake mix\, soups\, rice mixes (i.e. Rice-a-Roni\, Zatarain&rsquo\;s)\, cleaning and household items and personal hygiene items.&nbsp\;<br />\n<br />\nHere&#39\;s a list of participating local businesses where you can drop off items:</span>\n<div><span style="font-size:12px\;"><span style="font-family:verdana\;">22nd Century Media<span style="white-space:pre"> </span>&nbsp\; &nbsp\;</span></span></div>\n\n<div><span style="font-size:12px\;"><span style="font-family:verdana\;">@properties &ndash\; Virginia Trux<span style="white-space:pre"> </span>&nbsp\; &nbsp\;</span></span></div>\n\n<div><span style="font-size:12px\;"><span style="font-family:verdana\;">American Cancer Society<span style="white-space:pre"> </span>&nbsp\; &nbsp\;</span></span></div>\n\n<div><span style="font-size:12px\;"><span style="font-family:verdana\;">Baird &amp\; Warner Real Estate<span style="white-space:pre"> </span>&nbsp\; &nbsp\;</span></span></div>\n\n<div><span style="font-size:12px\;"><span style="font-family:verdana\;">Belmont Village Senior Living<span style="white-space:pre"> </span>&nbsp\; &nbsp\;</span></span></div>\n\n<div><span style="font-size:12px\;"><span style="font-family:verdana\;">Championship Martial Arts<span style="white-space:pre"> </span>&nbsp\; &nbsp\;</span></span></div>\n\n<div><span style="font-size:12px\;"><span style="font-family:verdana\;">Chiro Mend<span style="white-space:pre"> </span>&nbsp\; &nbsp\;</span></span></div>\n\n<div><span style="font-size:12px\;"><span style="font-family:verdana\;">Code Ninjas<span style="white-space:pre"> </span>&nbsp\; &nbsp\;</span></span></div>\n\n<div><span style="font-size:12px\;"><span style="font-family:verdana\;">Coldwell Banker Residential Real Estate<span style="white-space:pre"> </span>&nbsp\; &nbsp\;</span></span></div>\n\n<div><span style="font-size:12px\;"><span style="font-family:verdana\;">College Nannies Sitters and Tutors Glenview<span style="white-space:pre"> </span>&nbsp\; &nbsp\;</span></span></div>\n\n<div><span style="font-size:12px\;"><span style="font-family:verdana\;">Compass Mortgage/Andrew Luett<span style="white-space:pre"> </span>&nbsp\; &nbsp\;</span></span></div>\n\n<div><span style="font-size:12px\;"><span style="font-family:verdana\;">CorePower Yoga Glenview<span style="white-space:pre"> </span>&nbsp\; &nbsp\;</span></span></div>\n\n<div><span style="font-size:12px\;"><span style="font-family:verdana\;">Devon Bank<span style="white-space:pre"> </span>&nbsp\; &nbsp\;</span></span></div>\n\n<div><span style="font-size:12px\;"><span style="font-family:verdana\;">Emerald Place- An Anthem Memory Care Community<span style="white-space:pre"> </span>&nbsp\; &nbsp\;</span></span></div>\n\n<div><span style="font-size:12px\;"><span style="font-family:verdana\;">Feed to Succeed\, LLC<span style="white-space:pre"> </span>&nbsp\; &nbsp\;</span></span></div>\n\n<div><span style="font-size:12px\;"><span style="font-family:verdana\;">Glenbrook Remodeling - Showroom<span style="white-space:pre"> </span>&nbsp\; &nbsp\;</span></span></div>\n\n<div><span style="font-size:12px\;"><span style="font-family:verdana\;">Glenview Bank &amp\; Trust<span style="white-space:pre"> </span>&nbsp\; &nbsp\;</span></span></div>\n\n<div><span style="font-size:12px\;"><span style="font-family:verdana\;">Glenview Grind<span style="white-space:pre"> </span>&nbsp\; &nbsp\;</span></span></div>\n\n<div><span style="font-size:12px\;"><span style="font-family:verdana\;">Glenview Park District<span style="white-space:pre"> </span>&nbsp\; &nbsp\;</span></span></div>\n\n<div><span style="font-size:12px\;"><span style="font-family:verdana\;">Glenview Public Library<span style="white-space:pre"> </span>&nbsp\; &nbsp\;</span></span></div>\n\n<div><span style="font-size:12px\;"><span style="font-family:verdana\;">Glenview State Bank<span style="white-space:pre"> </span>&nbsp\; &nbsp\;</span></span></div>\n\n<div><span style="font-size:12px\;"><span style="font-family:verdana\;">GV&#39\;s Heating &amp\; Cooling Inc.<span style="white-space:pre"> </span>&nbsp\; &nbsp\;</span></span></div>\n\n<div><span style="font-size:12px\;"><span style="font-family:verdana\;">Hackney&#39\;s On Lake<span style="white-space:pre"> </span>&nbsp\; &nbsp\;</span></span></div>\n\n<div><span style="font-size:12px\;"><span style="font-family:verdana\;">Hlavacek Florist of Glenview<span style="white-space:pre"> </span>&nbsp\; &nbsp\;</span></span></div>\n\n<div><span style="font-size:12px\;"><span style="font-family:verdana\;">Inspire Counseling Center<span style="white-space:pre"> </span>&nbsp\; &nbsp\;</span></span></div>\n\n<div><span style="font-size:12px\;"><span style="font-family:verdana\;">Karen M. Patterson\, P.C.<span style="white-space:pre"> </span>&nbsp\; &nbsp\;</span></span></div>\n\n<div><span style="font-size:12px\;"><span style="font-family:verdana\;">Lynch McPeek Wealth Management<span style="white-space:pre"> </span>&nbsp\; &nbsp\;</span></span></div>\n\n<div><span style="font-size:12px\;"><span style="font-family:verdana\;">Macushla Brewing Company<span style="white-space:pre"> </span>&nbsp\; &nbsp\;</span></span></div>\n\n<div><span style="font-size:12px\;"><span style="font-family:verdana\;">Medulla LLC<span style="white-space:pre"> </span>&nbsp\; &nbsp\;</span></span></div>\n\n<div><span style="font-size:12px\;"><span style="font-family:verdana\;">MY SALON Suite of Glenview<span style="white-space:pre"> </span>&nbsp\; &nbsp\;</span></span></div>\n\n<div><span style="font-size:12px\;"><span style="font-family:verdana\;">Northwestern Medicine - Glenview Outpatient Center<span style="white-space:pre"> </span>&nbsp\; &nbsp\;</span></span></div>\n\n<div><span style="font-size:12px\;"><span style="font-family:verdana\;">O&#39\;Grady Law Group P.C. <span style="white-space:pre"> </span>&nbsp\; &nbsp\;</span></span></div>\n\n<div><span style="font-size:12px\;"><span style="font-family:verdana\;">Opal Enterprises Windows &amp\; Siding Co.<span style="white-space:pre"> </span>&nbsp\; &nbsp\;</span></span></div>\n\n<div><span style="font-size:12px\;"><span style="font-family:verdana\;">Orangetheory Fitness Glenview<span style="white-space:pre"> </span>&nbsp\; &nbsp\;</span></span></div>\n\n<div><span style="font-size:12px\;"><span style="font-family:verdana\;">Pinot&#39\;s Palette<span style="white-space:pre"> </span>&nbsp\; &nbsp\;</span></span></div>\n\n<div><span style="font-size:12px\;"><span style="font-family:verdana\;">Printwell Printing<span style="white-space:pre"> </span>&nbsp\; &nbsp\;</span></span></div>\n\n<div><span style="font-size:12px\;"><span style="font-family:verdana\;">Purepoint Financial<span style="white-space:pre"> </span>&nbsp\; &nbsp\;</span></span></div>\n\n<div><span style="font-size:12px\;"><span style="font-family:verdana\;">Reserve Glenview <span style="white-space:pre"> </span>&nbsp\; &nbsp\;</span></span></div>\n\n<div><span style="font-size:12px\;"><span style="font-family:verdana\;">Sears Garage Doors<span style="white-space:pre"> </span>&nbsp\; &nbsp\;</span></span></div>\n\n<div><span style="font-size:12px\;"><span style="font-family:verdana\;">Sors Salt Room<span style="white-space:pre"> </span>&nbsp\; &nbsp\;</span></span></div>\n\n<div><span style="font-size:12px\;"><span style="font-family:verdana\;">St. Philip Lutheran Church<span style="white-space:pre"> </span>&nbsp\; &nbsp\;</span></span></div>\n\n<div><span style="font-size:12px\;"><span style="font-family:verdana\;">Sweet Ali&#39\;s Gluten Free Bakery<span style="white-space:pre"> </span>&nbsp\; &nbsp\;</span></span></div>\n\n<div><span style="font-size:12px\;"><span style="font-family:verdana\;">Sweet Home Improvements<span style="white-space:pre"> </span>&nbsp\; &nbsp\;</span></span></div>\n\n<div><span style="font-size:12px\;"><span style="font-family:verdana\;">Teddie Kossof Salon and Spa<span style="white-space:pre"> </span>&nbsp\; &nbsp\;</span></span></div>\n\n<div><span style="font-size:12px\;"><span style="font-family:verdana\;">Tipsy Paint<span style="white-space:pre"> </span>&nbsp\; &nbsp\;</span></span></div>\n\n<div><span style="font-size:12px\;"><span style="font-family:verdana\;">Wesley Child Care Center\, Inc.<span style="white-space:pre"> </span>&nbsp\; &nbsp\;</span></span></div>\n\n<div><span style="font-size:12px\;"><span style="font-family:verdana\;">Willow Lake Orthodontics<span style="white-space:pre"> </span>&nbsp\; &nbsp\;</span></span></div>\n\n<div><span style="font-size:12px\;"><span style="font-family:verdana\;">WIN Athletic Club<span style="white-space:pre"> </span>&nbsp\;</span></span></div>\n<br />\n<span style="font-family:verdana\;">No tax dollars are used to support the pantry so it is up to the community to help when they need it most!</span>
LOCATION:Please contact the Chamber if you are interested in participating in the food drive.
UID:e.434.10181
SEQUENCE:3
DTSTAMP:20260425T133956Z
URL:https://business.glenviewchamber.com/events/details/young-professionals-food-drive-begins-10181
END:VEVENT

END:VCALENDAR
