BEGIN:VCALENDAR
VERSION:2.0
PRODID:-//ChamberMaster//Event Calendar 2.0//EN
METHOD:PUBLISH
X-PUBLISHED-TTL:P3D
REFRESH-INTERVAL:P3D
CALSCALE:GREGORIAN
BEGIN:VEVENT
DTSTART;VALUE=DATE:20210802
DTEND;VALUE=DATE:20210803
TRANSP:TRANSPARENT
X-MICROSOFT-CDO-ALLDAYEVENT:TRUE
SUMMARY:Young Professionals Group Food Drive
DESCRIPTION:Give back to the community by participating in the Chamber Young Professionals Group (YPG) food drive through the month of August. Help us spread the word to your clients and customers or share with your neighbors and friends. Please let us know if you are interested in participating this year by emailing Meghan at: meghan@glenviewchamber.com to\n\nlet us know your are participating by donating 5 brown grocery bags of food. We will NOT be dropping off donation boxes this year.\n\n \n\nAll donations go to the Northfield Township Food Pantry which serves 600+ families in Glenview\, Northbrook\, and Northfield. No tax dollars are used to support the pantry. These are the items that are most needed: \n\n\n	Canned soup\n	Snacks\n	Chili\n	Cooking oil\n	Canned pasta with meat\n	Rice mixes\n	Jelly\, jam and preserves\n	Boxed cereal\n\n These items can be delivered directly to the pantry M\,T\,W\,F: 8:30 am - 4:30 pm and Th: 8:30 am - 7:00 pm. If you'd like make a monetary donation instead visit: https://twp.northfield.il.us/pantry/
X-ALT-DESC;FMTTYPE=text/html:<div align="center" style="color: rgb(96\, 109\, 120)\; font-family: Helvetica\, Arial\, sans-serif\; font-size: 14px\; text-align: center\;"><span style="font-size: 16px\; color: rgb(26\, 26\, 26)\; font-family: Calibri\, Helvetica\, Arial\, sans-serif\;">Give back to the community by participating in the Chamber Young Professionals Group (YPG) food drive through the month of August. Help us spread the word to your clients and customers or share with your neighbors and friends. Please let us know if you are interested in participating this year by emailing Meghan at:&nbsp\;</span><a href="mailto:meghan@glenviewchamber.com" rel="noopener noreferrer" style="color: rgb(26\, 26\, 26)\; font-size: 16px\; font-family: Calibri\, Helvetica\, Arial\, sans-serif\;" target="_blank">meghan@glenviewchamber.com</a><span style="font-size: 16px\; color: rgb(26\, 26\, 26)\; font-family: Calibri\, Helvetica\, Arial\, sans-serif\;">&nbsp\;to<br />\nlet us know your are participating by donating 5 brown grocery bags of food.&nbsp\;</span><span style="font-size: 16px\; color: rgb(26\, 26\, 26)\; font-family: Calibri\, Helvetica\, Arial\, sans-serif\; font-style: italic\;">We will&nbsp\;</span><span style="font-size: 16px\; color: rgb(26\, 26\, 26)\; font-family: Calibri\, Helvetica\, Arial\, sans-serif\; font-style: italic\; font-weight: bold\;">NOT</span><span style="font-size: 16px\; color: rgb(26\, 26\, 26)\; font-family: Calibri\, Helvetica\, Arial\, sans-serif\; font-style: italic\;">&nbsp\;be dropping off donation boxes this year.</span></div>\n\n<div style="color: rgb(96\, 109\, 120)\; font-family: Helvetica\, Arial\, sans-serif\; font-size: 14px\;">&nbsp\;</div>\n\n<div style="color: rgb(96\, 109\, 120)\; font-family: Helvetica\, Arial\, sans-serif\; font-size: 14px\;"><span style="font-size: 16px\; color: rgb(26\, 26\, 26)\; font-family: Calibri\, Helvetica\, Arial\, sans-serif\;">All donations go to the Northfield Township Food Pantry which serves 600+ families in Glenview\, Northbrook\, and Northfield. No tax dollars are used to support the pantry. These are the items that are&nbsp\;</span><span style="font-size: 16px\; color: rgb(26\, 26\, 26)\; font-family: Calibri\, Helvetica\, Arial\, sans-serif\; font-weight: bold\;">most needed:</span><span style="font-size: 16px\; color: rgb(26\, 26\, 26)\; font-family: Calibri\, Helvetica\, Arial\, sans-serif\;">&nbsp\;</span>\n\n<ul style="box-sizing: border-box\; margin: 0px 0px 28px 20px\; padding-right: 0px\; padding-left: 0px\; border: 0px\; font-variant-numeric: inherit\; font-variant-east-asian: inherit\; font-stretch: inherit\; font-size: 14px\; line-height: inherit\; font-family: &quot\;Open Sans&quot\;\; vertical-align: baseline\; list-style-position: initial\; list-style-image: initial\; color: rgb(0\, 0\, 0)\;">\n	<li style="box-sizing: border-box\; margin: 0px\; padding: 0px\; border: 0px\; font: inherit\; vertical-align: baseline\;">Canned soup</li>\n	<li style="box-sizing: border-box\; margin: 0px\; padding: 0px\; border: 0px\; font: inherit\; vertical-align: baseline\;">Snacks</li>\n	<li style="box-sizing: border-box\; margin: 0px\; padding: 0px\; border: 0px\; font: inherit\; vertical-align: baseline\;">Chili</li>\n	<li style="box-sizing: border-box\; margin: 0px\; padding: 0px\; border: 0px\; font: inherit\; vertical-align: baseline\;">Cooking oil</li>\n	<li style="box-sizing: border-box\; margin: 0px\; padding: 0px\; border: 0px\; font: inherit\; vertical-align: baseline\;">Canned pasta with meat</li>\n	<li style="box-sizing: border-box\; margin: 0px\; padding: 0px\; border: 0px\; font: inherit\; vertical-align: baseline\;">Rice mixes</li>\n	<li style="box-sizing: border-box\; margin: 0px\; padding: 0px\; border: 0px\; font: inherit\; vertical-align: baseline\;">Jelly\, jam and preserves</li>\n	<li style="box-sizing: border-box\; margin: 0px\; padding: 0px\; border: 0px\; font: inherit\; vertical-align: baseline\;">Boxed cereal</li>\n</ul>\n<span style="font-size: 16px\; color: rgb(26\, 26\, 26)\; font-family: Calibri\, Helvetica\, Arial\, sans-serif\;"> These items can be delivered&nbsp\;directly to the pantry M\,T\,W\,F: 8:30 am - 4:30 pm and Th: 8:30 am - 7:00 pm. If you&#39\;d like make a monetary donation instead visit:<a href="twp.northfield.il.us/pantry/">&nbsp\;</a></span><a href="https://twp.northfield.il.us/pantry/" rel="noopener noreferrer" style="color: rgb(26\, 26\, 26)\; font-size: 16px\; font-family: Calibri\, Helvetica\, Arial\, sans-serif\;" target="_blank">https://twp.northfield.il.us/pantry/</a><a href="twp.northfield.il.us/pantry/"><span style="font-size: 16px\; color: rgb(26\, 26\, 26)\; font-family: Calibri\, Helvetica\, Arial\, sans-serif\;">&nbsp\;&nbsp\;</span></a></div>\n\n<div style="color: rgb(96\, 109\, 120)\; font-family: Helvetica\, Arial\, sans-serif\; font-size: 14px\;">&nbsp\;</div>\n\n<div style="color: rgb(96\, 109\, 120)\; font-family: Helvetica\, Arial\, sans-serif\; font-size: 14px\;">&nbsp\;</div>\n
LOCATION:
UID:e.434.10566
SEQUENCE:3
DTSTAMP:20260422T070305Z
URL:https://business.glenviewchamber.com/events/details/young-professionals-group-food-drive-10566
END:VEVENT

END:VCALENDAR
