BEGIN:VCALENDAR
VERSION:2.0
PRODID:-//ChamberMaster//Event Calendar 2.0//EN
METHOD:PUBLISH
X-PUBLISHED-TTL:P3D
REFRESH-INTERVAL:P3D
CALSCALE:GREGORIAN
BEGIN:VEVENT
DTSTART;VALUE=DATE:20200801
DTEND;VALUE=DATE:20200802
TRANSP:TRANSPARENT
X-MICROSOFT-CDO-ALLDAYEVENT:TRUE
SUMMARY:Young Professionals Group Food Drive Begins
DESCRIPTION:Give back to the community by participating in the Chamber Young Professionals Group (YPG) food drive through the month of August and September. Help us spread the word to your clients and customers or share with your neighbors and friends. Please let us know if you are interested in participating this year by emailing Meghan at: meghan@glenviewchamber.com to\n\nlet us know your are participating by donating 5 brown grocery bags of food. We will NOT be dropping off donation boxes this year.\n\n \n\nAll donations go to the Northfield Township Food Pantry which serves 800 families in Glenview\, Northbrook\, and Northfield. No tax dollars are used to support the pantry. These are the items that are most needed: Soups\, Boxed sides (rice & pasta mixes\, potatoes)\, Canned fruit\, Canned vegetables\, cleaning and household items and personal hygiene items. These items can be delivered directly to the pantry M\,T\,W\,F: 8:30 am - 4:30 pm and Th: 8:30 am - 7:00 pm. If you'd like make a monetary donation instead visit: https://twp.northfield.il.us/pantry/  \n\n \n\nWe appreciate you supporting the community during this unprecedented time. Stay safe and healthy!
X-ALT-DESC;FMTTYPE=text/html:<div align="center" style="color: rgb(96\, 109\, 120)\; font-family: Helvetica\, Arial\, sans-serif\; font-size: 14px\; text-align: center\;"><span style="font-size: 16px\; color: rgb(26\, 26\, 26)\; font-family: Calibri\, Helvetica\, Arial\, sans-serif\;">Give back to the community by participating in the Chamber Young Professionals Group (YPG) food drive through the month of August and September. Help us spread the word to your clients and customers or share with your neighbors and friends. Please let us know if you are interested in participating this year by emailing Meghan at:&nbsp\;</span><a href="mailto:meghan@glenviewchamber.com" rel="noopener noreferrer" style="font-size: 16px\; color: rgb(26\, 26\, 26)\; font-family: Calibri\, Helvetica\, Arial\, sans-serif\;" target="_blank">meghan@glenviewchamber.com</a><span style="font-size: 16px\; color: rgb(26\, 26\, 26)\; font-family: Calibri\, Helvetica\, Arial\, sans-serif\;">&nbsp\;to<br />\nlet us know your are participating by donating 5 brown grocery bags of food.&nbsp\;</span><span style="font-size: 16px\; color: rgb(26\, 26\, 26)\; font-family: Calibri\, Helvetica\, Arial\, sans-serif\; font-style: italic\;">We will&nbsp\;</span><span style="font-size: 16px\; color: rgb(26\, 26\, 26)\; font-family: Calibri\, Helvetica\, Arial\, sans-serif\; font-style: italic\; font-weight: bold\;">NOT</span><span style="font-size: 16px\; color: rgb(26\, 26\, 26)\; font-family: Calibri\, Helvetica\, Arial\, sans-serif\; font-style: italic\;">&nbsp\;be dropping off donation boxes this year.</span></div>\n\n<div style="color: rgb(96\, 109\, 120)\; font-family: Helvetica\, Arial\, sans-serif\; font-size: 14px\;">&nbsp\;</div>\n\n<div style="color: rgb(96\, 109\, 120)\; font-family: Helvetica\, Arial\, sans-serif\; font-size: 14px\;"><span style="font-size: 16px\; color: rgb(26\, 26\, 26)\; font-family: Calibri\, Helvetica\, Arial\, sans-serif\;">All donations go to the Northfield Township Food Pantry which serves 800 families in Glenview\, Northbrook\, and Northfield. No tax dollars are used to support the pantry. These are the items that are&nbsp\;</span><span style="font-size: 16px\; color: rgb(26\, 26\, 26)\; font-family: Calibri\, Helvetica\, Arial\, sans-serif\; font-weight: bold\;">most needed:</span><span style="font-size: 16px\; color: rgb(26\, 26\, 26)\; font-family: Calibri\, Helvetica\, Arial\, sans-serif\;">&nbsp\;Soups\, Boxed sides (rice &amp\; pasta mixes\, potatoes)\, Canned fruit\, Canned vegetables\, cleaning and household items and personal hygiene items. These items can be delivered&nbsp\;directly to the pantry M\,T\,W\,F: 8:30 am - 4:30 pm and Th: 8:30 am - 7:00 pm. If you&#39\;d like make a monetary donation instead visit:<a href="twp.northfield.il.us/pantry/">&nbsp\;</a></span><a href="https://twp.northfield.il.us/pantry/" rel="noopener noreferrer" style="font-size: 16px\; color: rgb(26\, 26\, 26)\; font-family: Calibri\, Helvetica\, Arial\, sans-serif\;" target="_blank">https://twp.northfield.il.us/pantry/</a><a href="twp.northfield.il.us/pantry/"><span style="font-size: 16px\; color: rgb(26\, 26\, 26)\; font-family: Calibri\, Helvetica\, Arial\, sans-serif\;">&nbsp\;&nbsp\;</span></a></div>\n\n<div style="color: rgb(96\, 109\, 120)\; font-family: Helvetica\, Arial\, sans-serif\; font-size: 14px\;">&nbsp\;</div>\n\n<div style="color: rgb(96\, 109\, 120)\; font-family: Helvetica\, Arial\, sans-serif\; font-size: 14px\;"><span style="font-size: 16px\; color: rgb(26\, 26\, 26)\; font-family: Calibri\, Helvetica\, Arial\, sans-serif\;">We appreciate you supporting the community during this&nbsp\;unprecedented time. Stay safe and healthy!</span></div>\n
LOCATION:
UID:e.434.10397
SEQUENCE:3
DTSTAMP:20260422T223538Z
URL:https://business.glenviewchamber.com/events/details/young-professionals-group-food-drive-begins-10397
END:VEVENT

END:VCALENDAR
