BEGIN:VCALENDAR
VERSION:2.0
PRODID:-//ChamberMaster//Event Calendar 2.0//EN
METHOD:PUBLISH
X-PUBLISHED-TTL:P3D
REFRESH-INTERVAL:P3D
CALSCALE:GREGORIAN
BEGIN:VEVENT
DTSTART:20210721T210000Z
DTEND:20210722T000000Z
X-MICROSOFT-CDO-ALLDAYEVENT:FALSE
SUMMARY:Young Professionals Group Networking
DESCRIPTION:Join the Young Professionals Group (YPG) for a yoga class\, appetizers\, drinks and networking. We are planning and getting ready for the Food Drive which starts in August. Come just for the class or just for the networking and socializing.\n\n\n\n4-5PM Restore (deep stretch) class for anyone from YPG \n\n5-7PM Drinks and apps - mingling with YPG
X-ALT-DESC;FMTTYPE=text/html:Join the Young Professionals Group (YPG) for a yoga class\, appetizers\, drinks and networking. We are planning and getting ready for the Food Drive which starts in August. Come just for the class or just for the networking and socializing.<br />\n<br />\n4-5PM Restore (deep stretch) class for anyone from YPG&nbsp\;<br />\n5-7PM Drinks and apps - mingling with YPG&nbsp\;
LOCATION:Yoga Six Carillon Square 1490 Waukegan Rd.
UID:e.434.10559
SEQUENCE:3
DTSTAMP:20260422T082308Z
URL:https://business.glenviewchamber.com/events/details/young-professionals-group-networking-10559
END:VEVENT

END:VCALENDAR
