BEGIN:VCALENDAR
VERSION:2.0
PRODID:-//ChamberMaster//Event Calendar 2.0//EN
METHOD:PUBLISH
X-PUBLISHED-TTL:P3D
REFRESH-INTERVAL:P3D
CALSCALE:GREGORIAN
BEGIN:VEVENT
DTSTART:20220905T170000Z
DTEND:20220905T170000Z
X-MICROSOFT-CDO-ALLDAYEVENT:FALSE
SUMMARY:Young Professionals Group (YPG) Food Drive
DESCRIPTION:Give back to the community by participating in the Chamber Young Professionals Group (YPG) food drive through the month of August and September. Help us spread the word to your clients and customers or share with your neighbors and friends. Please let us know if you are interested in participating this year by filling out this form HERE. We are asking each participating business to collect 5 brown grocery bags of food and deliver them to the pantry during the month of August and September. We will NOT be dropping off donation boxes this year.\n\n \n\nAll donations go to the Northfield Township Food Pantry which serves 900+ families in Glenview\, Northbrook\, and Northfield. "We are so grateful to the Glenview Chamber of Commerce's Young Professionals Group for making a difference in the lives of so many who are food insecure in our community\," said Northfield Township Supervisor\, Shiva Mohsenzadeh. \n\n \n\nNo tax dollars are used to support the pantry. These are the items that are most needed: \n\n	Coffee/tea\n	Pancake mix\n	Juice/juice boxes (100% real juice preferred)\n	Canned beef stew\n	Canned chicken\n	Jelly/jams/preserves\n	Applesauce\n	Pasta skillet meals (eg ? Hamburger Helper)\n	Plain pasta\n	Canned pasta with meat (eg ? Chef Boyardee)\n	Diapers (larger sizes appreciated)\n	Feminine hygiene products\n\n\nDrop off items at these participating businesses:\n\nBusey Bank\n\nGlenview Bank & Trust\n\nRosley Eyecare and Associates\n\nVirginia Trux\, @properties\n\nCompass/Aaron Share Real Estate\n\nState Representative Jennifer Gong-Gershowitz\n\nGlenview Grind\n\nHouse of Wax Day Spa\n\nAlways Best Care North Shore\n\nVillage Treasure House\n\nMidtown Square Apartments \n\nWIN Athletic Club\n\nThe Shack Indoor Golf\n\nReactive Enhancement Performance Center\n\nVillage of Glenview\n\nState Senator Laura Fine\n\nState Representative Jennifer Gong-Gershowicz\n\nGlenview Public Library\n\n \n\n\n\nOr these items can be delivered directly to the pantry M\,T\,W\,F: 8:30 am - 4:30 pm and Th: 8:30 am - 7:00 pm. If you'd like make a monetary donation instead visit: https://twp.northfield.il.us/pantry/
X-ALT-DESC;FMTTYPE=text/html:<span style="color:#1F497D\;"><span style="font-family:calibri\,sans-serif\;">Give back to the community by participating in the Chamber Young Professionals Group (YPG) food drive through the month of August and September. Help us spread the word to your clients and customers or share with your neighbors and friends. Please let us know if you are interested in participating this year by filling out this form </span></span><span style="color:#606D78\;"><span style="font-family:helvetica\,sans-serif\;"><span style="font-size:10.5pt\;"><a href="https://r20.rs6.net/tn.jsp?f=001GeN8u-uOtb2jjN1ESPQDV_NlfC_eVA-KEoGf-KlMpfpqkllNel0XU5ODL42GGnnIHNC1DARjdom7lpeuxukup1nlJ2VXI20zICL3hU1NPwzsASQrjTlPk7PIaPsvIg04ASdvlWqprgh7kqP8K6vs_zozoGEIv7o_a20GS9qNNTgZjXACfHW_Mtb_qcjGrOuCmLggUjlpEuYRQEKGyERyoTw12tX68-ClQptmFI0nAKHvTMcomJczEl_Qng25nIeX&amp\;c=vrOzqaBf_1gbbCgE0Y5J62LpJntNbIdIm2WtjMMrR_BD5JeQZbn3kA==&amp\;ch=2ggZuDFgIIf4Hyf9E7_IBP5jn1cxJ8VHmTQMPWSt9p4OtK0ZjkYA_A==" target="_blank"><strong><span style="color:#EB4C39\;"><span style="font-family:calibri\,sans-serif\;"><span style="font-size:12.0pt\;">HERE</span></span></span></strong></a></span></span></span><span style="color:#1F497D\;"><span style="font-family:calibri\,sans-serif\;">. We are asking each participating business to collect 5 brown grocery bags of food and deliver them to the pantry during the month of August and September.</span></span>&nbsp\;<em><span style="color:#1F497D\;"><span style="font-family:calibri\,sans-serif\;">We will&nbsp\;<strong>NOT</strong>&nbsp\;be dropping off donation boxes this year.</span></span></em><br />\n&nbsp\;<br />\n<span style="color:#1F497D\;"><span style="font-family:calibri\,sans-serif\;">All donations go to the Northfield Township Food Pantry which serves 900+ families in Glenview\, Northbrook\, and Northfield. &quot\;We are so grateful to the Glenview&nbsp\;Chamber of Commerce&#39\;s&nbsp\;Young Professionals Group for making a difference in the lives of so many who are food insecure in our community\,&quot\; said Northfield Township Supervisor\, Shiva Mohsenzadeh.&nbsp\;</span></span><br />\n&nbsp\;<br />\n<span style="color:#1F497D\;"><span style="font-family:calibri\,sans-serif\;">No tax dollars are used to support the pantry. These are the items that are&nbsp\;<strong>most needed:</strong>&nbsp\;</span></span>\n<ul>\n	<li><span style="color:#1F497D\;"><span style="font-family:calibri\,sans-serif\;">Coffee/tea</span></span></li>\n	<li><span style="color:#1F497D\;"><span style="font-family:calibri\,sans-serif\;">Pancake mix</span></span></li>\n	<li><span style="color:#1F497D\;"><span style="font-family:calibri\,sans-serif\;">Juice/juice boxes (100% real juice preferred)</span></span></li>\n	<li><span style="color:#1F497D\;"><span style="font-family:calibri\,sans-serif\;">Canned beef stew</span></span></li>\n	<li><span style="color:#1F497D\;"><span style="font-family:calibri\,sans-serif\;">Canned chicken</span></span></li>\n	<li><span style="color:#1F497D\;"><span style="font-family:calibri\,sans-serif\;">Jelly/jams/preserves</span></span></li>\n	<li><span style="color:#1F497D\;"><span style="font-family:calibri\,sans-serif\;">Applesauce</span></span></li>\n	<li><span style="color:#1F497D\;"><span style="font-family:calibri\,sans-serif\;">Pasta skillet meals (eg ? Hamburger Helper)</span></span></li>\n	<li><span style="color:#1F497D\;"><span style="font-family:calibri\,sans-serif\;">Plain pasta</span></span></li>\n	<li><span style="color:#1F497D\;"><span style="font-family:calibri\,sans-serif\;">Canned pasta with meat (eg ? Chef Boyardee)</span></span></li>\n	<li><span style="color:#1F497D\;"><span style="font-family:calibri\,sans-serif\;">Diapers (larger sizes appreciated)</span></span></li>\n	<li><span style="color:#1F497D\;"><span style="font-family:calibri\,sans-serif\;">Feminine hygiene&nbsp\;products</span></span></li>\n</ul>\n\n<p>Drop off items at these participating businesses:</p>\n\n<p>Busey Bank<br />\nGlenview Bank &amp\; Trust<br />\nRosley Eyecare and Associates<br />\nVirginia Trux\, @properties<br />\nCompass/Aaron Share Real Estate<br />\nState Representative Jennifer Gong-Gershowitz<br />\nGlenview Grind<br />\nHouse of Wax Day Spa<br />\nAlways Best Care North Shore<br />\nVillage Treasure House<br />\nMidtown Square Apartments&nbsp\;<br />\nWIN Athletic Club<br />\nThe Shack Indoor Golf<br />\nReactive Enhancement Performance Center<br />\nVillage of Glenview<br />\nState Senator Laura Fine<br />\nState Representative Jennifer Gong-Gershowicz<br />\nGlenview Public Library<br />\n&nbsp\;</p>\n\n<p><br />\n<span style="color:#1F497D\;"><span style="font-family:calibri\,sans-serif\;"><span style="font-size:12.0pt\;">Or these items can be delivered&nbsp\;directly to the pantry M\,T\,W\,F: 8:30 am - 4:30 pm and Th: 8:30 am - 7:00 pm. If you&#39\;d like make a monetary donation instead visit:</span></span></span><span style="color:#606D78\;"><span style="font-family:helvetica\,sans-serif\;"><span style="font-size:10.5pt\;">&nbsp\;<a href="https://r20.rs6.net/tn.jsp?f=001GeN8u-uOtb2jjN1ESPQDV_NlfC_eVA-KEoGf-KlMpfpqkllNel0XU_tcRjZOmC7W_xYSoI0B2uQIxRFJNVqzPJmKmkYHgTaMJHdEYKMpP6rWdq-Mwc-tl3LDwjOxvgLUsQXz9qr8TC8PSNnH1MnYuzk9jCPpTnhE&amp\;c=vrOzqaBf_1gbbCgE0Y5J62LpJntNbIdIm2WtjMMrR_BD5JeQZbn3kA==&amp\;ch=2ggZuDFgIIf4Hyf9E7_IBP5jn1cxJ8VHmTQMPWSt9p4OtK0ZjkYA_A==" target="_blank"><span style="color:#1F497D\;"><span style="font-family:calibri\,sans-serif\;"><span style="font-size:12.0pt\;">https://twp.northfield.il.us/pantry/</span></span></span></a>&nbsp\;&nbsp\;</span></span></span></p>\n
LOCATION:
UID:e.434.10689
SEQUENCE:3
DTSTAMP:20260420T145014Z
URL:https://business.glenviewchamber.com/events/details/young-professionals-group-ypg-food-drive-09-05-2022-10689
END:VEVENT

END:VCALENDAR
