BEGIN:VCALENDAR
VERSION:2.0
PRODID:-//ChamberMaster//Event Calendar 2.0//EN
METHOD:PUBLISH
X-PUBLISHED-TTL:P3D
REFRESH-INTERVAL:P3D
CALSCALE:GREGORIAN
BEGIN:VEVENT
DTSTART:20220928T223000Z
DTEND:20220929T000000Z
X-MICROSOFT-CDO-ALLDAYEVENT:FALSE
SUMMARY:Young Professionals Group (YPG) Networking Event
DESCRIPTION:Join us for Young Professionals Group (YPG) networking at the new Golf Shack! Apps will be provided and cash bar available. FREE Event - all are welcome to attend but sign up in advance so we can be prepared. NO parking in the Cars of America lot.
X-ALT-DESC;FMTTYPE=text/html:Join us for Young Professionals Group (YPG) networking at the new Golf Shack! Apps will be provided and cash bar available. FREE Event - all are welcome to attend but sign up in advance so we can be prepared. NO parking in the Cars of America lot.&nbsp\;
LOCATION:Golf Shack 1717 Chestnut Avenue Glenview NO parking in the Cars of America lot.
UID:e.434.10693
SEQUENCE:3
DTSTAMP:20260421T122541Z
URL:https://business.glenviewchamber.com/events/details/young-professionals-group-ypg-networking-event-10693
END:VEVENT

END:VCALENDAR
