BEGIN:VCALENDAR
VERSION:2.0
PRODID:-//ChamberMaster//Event Calendar 2.0//EN
METHOD:PUBLISH
X-PUBLISHED-TTL:P3D
REFRESH-INTERVAL:P3D
CALSCALE:GREGORIAN
BEGIN:VEVENT
DTSTART:20220223T230000Z
DTEND:20220224T010000Z
X-MICROSOFT-CDO-ALLDAYEVENT:FALSE
SUMMARY:Young Professionals Group (YPG) Social
DESCRIPTION:Glenview Chamber is built to promote local businesses\, grow awareness and build relationships amongst local professionals in the area.  The YPG is a more targeted group of professionals (47 years or younger\, but we won't card  ) that we'd like to bring together in a more social setting to meet\, mingle\, and get a better understanding of the current\, and future faces of Glenview.  We are a group of YPGs looking to build strong relationships through networking\, while lending support to the future leaders in our community.  We would also like this to serve as an opportunity to give back to the youth of the community by engaging and mentor those interested in a future in business.
X-ALT-DESC;FMTTYPE=text/html:Glenview Chamber is built to promote local businesses\, grow awareness and build relationships amongst local professionals in the area.&nbsp\; The YPG is a more targeted group of professionals (47 years or younger\, but we won&rsquo\;t card <span style="font-family:segoe ui emoji\,sans-serif\;">&#128522\;</span>) that we<span style="color:#1E1C11\;">&rsquo\;d</span> like to bring together in a more social setting to meet\, mingle\, and get a better understanding of the current\, and future faces of Glenview.&nbsp\; We are a group of YPGs looking to build strong relationships through networking\, while lending support to the future leaders in our community.&nbsp\; We would also like this to serve as an opportunity to give back to the youth of the community by engaging and mentor those interested in a future in business.<br />\n&nbsp\;
LOCATION:Coarse Italian 800 Shermer Road Glenview
UID:e.434.10586
SEQUENCE:3
DTSTAMP:20260421T213950Z
URL:https://business.glenviewchamber.com/events/details/young-professionals-group-ypg-social-10586
END:VEVENT

END:VCALENDAR
