BEGIN:VCALENDAR
VERSION:2.0
PRODID:-//ChamberMaster//Event Calendar 2.0//EN
METHOD:PUBLISH
X-PUBLISHED-TTL:P3D
REFRESH-INTERVAL:P3D
CALSCALE:GREGORIAN
BEGIN:VEVENT
DTSTART:20190618T223000Z
DTEND:20190619T000000Z
X-MICROSOFT-CDO-ALLDAYEVENT:FALSE
SUMMARY:Young Professionals Networking
DESCRIPTION:Please join us for our Young Professionals Group (YPG) Networking of  at Macushla at 1516 E. Lake Avenue. Free appetizers and cash bar for this event. We are excited to hear your 2019 professional goals and want to see how YPG can help you achieve these goals. Also\, we will be discussing volunteer opportunities for the 2019 Summer Food Drive and other exciting ways you can get involved.
X-ALT-DESC;FMTTYPE=text/html:<span style="color: rgb(76\, 76\, 83)\; font-family: AsapRegular\, Arial\, sans-serif\; font-size: 14px\;">Please join us for our Young Professionals Group (YPG) Networking of&nbsp\; at Macushla at 1516 E. Lake Avenue. Free appetizers and cash bar for this event. We are excited to hear your 2019 professional goals and want to see how YPG can help you achieve these goals. Also\, we will be discussing volunteer opportunities for the 2019 Summer Food Drive and other exciting ways you can get involved.</span>
LOCATION:Macushla Brewing Company
UID:e.434.10141
SEQUENCE:3
DTSTAMP:20260425T161954Z
URL:https://business.glenviewchamber.com/events/details/young-professionals-networking-10141
END:VEVENT

END:VCALENDAR
