BEGIN:VCALENDAR
VERSION:2.0
PRODID:-//ChamberMaster//Event Calendar 2.0//EN
METHOD:PUBLISH
X-PUBLISHED-TTL:P3D
REFRESH-INTERVAL:P3D
CALSCALE:GREGORIAN
BEGIN:VEVENT
DTSTART:20260310T211500Z
DTEND:20260310T224500Z
X-MICROSOFT-CDO-ALLDAYEVENT:FALSE
SUMMARY:Youth Pop-Up Workshop: RoboPetz
DESCRIPTION:Ages 7-12 Kids will explore gears\, motors\, axles\, and RoboThink's cutting-edge hardware. Each workshop combines hands-on engineering\, creativity\, and friendly competition\, giving young builders the chance to bring their amazing creations to life!
X-ALT-DESC;FMTTYPE=text/html:Ages 7-12 Kids will explore gears\, motors\, axles\, and RoboThink&rsquo\;s cutting-edge hardware. Each workshop combines hands-on engineering\, creativity\, and friendly competition\, giving young builders the chance to bring their amazing creations to life!
LOCATION:North Suburban YMCA\, 2705 Techny Rd\, Northbrook\, IL 60062
UID:e.434.11707
SEQUENCE:3
DTSTAMP:20260420T122510Z
URL:https://business.glenviewchamber.com/events/details/youth-pop-up-workshop-robopetz-11707
END:VEVENT

END:VCALENDAR
