BEGIN:VCALENDAR
VERSION:2.0
PRODID:-//ChamberMaster//Event Calendar 2.0//EN
METHOD:PUBLISH
X-PUBLISHED-TTL:P3D
REFRESH-INTERVAL:P3D
CALSCALE:GREGORIAN
BEGIN:VEVENT
DTSTART:20190609T190000Z
DTEND:20190609T220000Z
X-MICROSOFT-CDO-ALLDAYEVENT:FALSE
SUMMARY:Youth Services Pride Picnic
DESCRIPTION:Save the date to celebrate Pride Month with the Pride Youth Program at Youth Services at its annual Pride Picnic!\n\n\n\nAll LGBTQ+ youth\, families\, community members\, and allies are welcome!
X-ALT-DESC;FMTTYPE=text/html:Save the date to celebrate Pride Month with the Pride Youth Program at Youth Services at its annual Pride Picnic!<br />\n<br />\nAll LGBTQ+ youth\, families\, community members\, and allies are welcome!<br />\n&nbsp\;
LOCATION:Youth Services 3080 W. Lake Avenue Glenview
UID:e.434.10166
SEQUENCE:3
DTSTAMP:20260425T172919Z
URL:https://business.glenviewchamber.com/events/details/youth-services-pride-picnic-10166
END:VEVENT

END:VCALENDAR
