BEGIN:VCALENDAR
VERSION:2.0
PRODID:-//ChamberMaster//Event Calendar 2.0//EN
METHOD:PUBLISH
X-PUBLISHED-TTL:P3D
REFRESH-INTERVAL:P3D
CALSCALE:GREGORIAN
BEGIN:VEVENT
DTSTART:20190628T000000Z
DTEND:20190628T020000Z
X-MICROSOFT-CDO-ALLDAYEVENT:FALSE
SUMMARY:Youth Services Shopping Event at Apricot Lane
DESCRIPTION:You are invited to a Fashion party to benefit Youth Services on Thursday\, June 27th from 7pm-9pm.  Come to Apricot Lane and shop the latest styles and give back to Youth Services - 15% of all sales will go directly to Youth Services.  Can't come that night...no worries!  Shop anytime that day and just make sure to mention Youth Services when checking out!\n\n\n\nRefreshments\, snacks and stylists provided.  Hope to see you there!
X-ALT-DESC;FMTTYPE=text/html:You are invited to a Fashion party to benefit Youth Services on Thursday\, June 27th from 7pm-9pm.&nbsp\; Come to Apricot Lane and shop the latest styles and give back to Youth Services - 15% of all sales will go directly to Youth Services.&nbsp\; Can&#39\;t come that night...no worries!&nbsp\; Shop anytime that day and just make sure to mention Youth Services when checking out!<br />\n<br />\nRefreshments\, snacks and stylists provided.&nbsp\; Hope to see you there!
LOCATION:Apricot Lane 1951 Tower Drive Glenview\, IL 60026 (847) 730-3423
UID:e.434.10174
SEQUENCE:3
DTSTAMP:20260425T184415Z
URL:https://business.glenviewchamber.com/events/details/youth-services-shopping-event-at-apricot-lane-10174
END:VEVENT

END:VCALENDAR
