BEGIN:VCALENDAR
VERSION:2.0
PRODID:-//ChamberMaster//Event Calendar 2.0//EN
METHOD:PUBLISH
X-PUBLISHED-TTL:P3D
REFRESH-INTERVAL:P3D
CALSCALE:GREGORIAN
BEGIN:VEVENT
DTSTART:20240206T233000Z
DTEND:20240207T010000Z
X-MICROSOFT-CDO-ALLDAYEVENT:FALSE
SUMMARY:YPG Event
DESCRIPTION:Join the Young Professionals Group for their first event of the year at WIN Athletic Club. Experience a fun 30-minute workout class followed by networking and food. Please fill out the waiver below before coming to the event: Young Professional Group Networking Event/Glenview Chamber (momence.com)\n\n\n\nPlease note that chamber events are photographed. Your image may be used in connection with advertising and promotion of the Glenview Chamber.
X-ALT-DESC;FMTTYPE=text/html:Join the Young Professionals Group for their first event of the year at WIN Athletic Club. Experience a fun 30-minute workout class followed by networking and food. Please fill out the waiver below before coming to the event:&nbsp\;<a href="https://momence.com/Erika-Gruner/Young-Professional-Group-Networking-Event%2FGlenview-Chamber--/98073953">Young Professional Group Networking Event/Glenview Chamber (momence.com)</a><br />\n<br />\n<span style="font-size: 12px\;">Please note that chamber events are photographed. Your image may be used in connection with advertising and promotion of the Glenview Chamber.</span>
LOCATION:WIN Athletic Club 1725 Chestnut Ave. Glenview IL 60026
UID:e.434.10882
SEQUENCE:3
DTSTAMP:20260420T112306Z
URL:https://business.glenviewchamber.com/events/details/ypg-event-10882
END:VEVENT

END:VCALENDAR
