BEGIN:VCALENDAR
VERSION:2.0
PRODID:-//ChamberMaster//Event Calendar 2.0//EN
METHOD:PUBLISH
X-PUBLISHED-TTL:P3D
REFRESH-INTERVAL:P3D
CALSCALE:GREGORIAN
BEGIN:VEVENT
DTSTART:20230801T170000Z
DTEND:20230801T170000Z
X-MICROSOFT-CDO-ALLDAYEVENT:FALSE
SUMMARY:YPG Food Drive Starts
DESCRIPTION:The Glenview Chamber Young Professionals Group (YPG) is supporting the Northfield Township Pantry with a food drive taking place during August and September. Interested in participating in the drive and help the pantry serve over 1000 families within the Glenview\, Northbrook\, and Northfield areas? Your business can fill 5 brown grocery bags filled with non-perishable food items\, personal care items or baby diapers/wipes. Drop off at the Food Pantry\, 2550 Waukegan Road\, Suite 100\, Glenview during business hours or during non business hours (in the collection bins outside the building) throughout the months of August and September. Most needed items: juice/juice boxes\, canned beef stew\, coffee\, tea\, applesauce\, peanut butter\, pancake mix\, or canned fruit. Don't like to shop? No problem make an online donation here: https://northfieldtownship.com/food-pantry/ \n\nSign up by emailing: info@glenviewchamber.com so we can track which businesses are participating and proper recognition is received. Thanks for your support for this life changing food drive.
X-ALT-DESC;FMTTYPE=text/html:<span style="color: rgb(28\, 55\, 113)\; font-family: Calibri\, Helvetica\, Arial\, sans-serif\; font-size: 16px\; white-space-collapse: preserve\;">The Glenview Chamber Young Professionals Group (YPG) is supporting the Northfield Township Pantry with a food drive taking place during August and September. Interested in participating in the drive and help the pantry serve over 1000 families within the Glenview\, Northbrook\, and Northfield areas? Your business can fill 5 brown grocery bags filled with non-perishable food items\, personal care items or baby diapers/wipes. Drop off at the Food Pantry\, 2550 Waukegan Road\, Suite 100\, Glenview during business hours or during non business hours (in the collection bins outside the building) throughout the months of August and September. Most needed items: juice/juice boxes\, canned beef stew\, coffee\, tea\, applesauce\, peanut butter\, pancake mix\, or canned fruit. Don&#39\;t like to shop? No problem make an online donation here: </span><strong><a href="https://northfieldtownship.com/food-pantry/"><span style="color:#FF0000\;">https://northfieldtownship.com/food-pantry/&nbsp\;</span></a></strong><br />\n<span style="color: rgb(28\, 55\, 113)\; font-family: Calibri\, Helvetica\, Arial\, sans-serif\; font-size: 16px\; white-space-collapse: preserve\;">Sign up by emailing: <strong>info@glenviewchamber.com </strong>so we can track which businesses are participating and proper recognition is received. Thanks for your support for this life changing food drive.</span>
LOCATION:
UID:e.434.10768
SEQUENCE:3
DTSTAMP:20260420T220113Z
URL:https://business.glenviewchamber.com/events/details/ypg-food-drive-starts-10768
END:VEVENT

END:VCALENDAR
